BEGIN:VCALENDAR
VERSION:2.0
PRODID:-//ChamberMaster//Event Calendar 2.0//EN
METHOD:PUBLISH
X-PUBLISHED-TTL:P3D
REFRESH-INTERVAL:P3D
CALSCALE:GREGORIAN
BEGIN:VEVENT
DTSTART:20180913T220000Z
DTEND:20180913T233000Z
X-MICROSOFT-CDO-ALLDAYEVENT:FALSE
SUMMARY:Dessert Contest at the Library
DESCRIPTION:Contestants can sign up at the library to enter the dessert contest. First place will receive a trophy and cash prize (and bragging rights). Second and third places will each receive a cash prize. Everyone is invited to attend and watch as judges from around our community select their favorite desserts. All dessert entries must be homemade and contestants agree to allow the public to sample their entries after judging is complete.
X-ALT-DESC;FMTTYPE=text/html:Contestants can sign up at the library to enter the dessert contest. First place will receive a trophy and cash prize (and bragging rights). Second and third places will each receive a cash prize. Everyone is invited to attend and watch as judges from around our community select their favorite desserts. All dessert entries must be homemade and contestants agree to allow the public to sample their entries after judging is complete.
LOCATION:Thomas County Public Library 201 N. Madison Street
UID:e.3211.337
SEQUENCE:3
DTSTAMP:20260426T033217Z
URL:https://business.thomasvillechamber.com/events/details/dessert-contest-at-the-library-337
END:VEVENT

END:VCALENDAR
