BEGIN:VCALENDAR
VERSION:2.0
PRODID:-//ChamberMaster//Event Calendar 2.0//EN
METHOD:PUBLISH
X-PUBLISHED-TTL:P3D
REFRESH-INTERVAL:P3D
CALSCALE:GREGORIAN
BEGIN:VEVENT
DTSTART:20201111T123000Z
DTEND:20201111T143000Z
X-MICROSOFT-CDO-ALLDAYEVENT:FALSE
SUMMARY:Dine & Dash
DESCRIPTION:Attention veterans! Legacy Village assisted living and memory care communities\n\nof Tifton\, Moultrie and Thomasville want to start Veterans Day by serving you\n\nfirst. Each of the South Georgia locations will host a Dine and Dash on\n\nWednesday\, November 11th to honor those who served in our nation's military.\n\nDrive through the Legacy Village near you in Tifton\, Moultrie or Thomasville\n\nbetween 7:30   9:30 a.m. to receive your breakfast to go. For more information\,\n\ncall Kim at 229.921.8960.
X-ALT-DESC;FMTTYPE=text/html:Attention veterans! Legacy Village assisted living and memory care communities<br />\nof Tifton\, Moultrie and Thomasville want to start Veterans Day by serving you<br />\nfirst. Each of the South Georgia locations will host a Dine and Dash on<br />\nWednesday\, November 11th to honor those who served in our nation&rsquo\;s military.<br />\nDrive through the Legacy Village near you in Tifton\, Moultrie or Thomasville<br />\nbetween 7:30 &ndash\; 9:30 a.m. to receive your breakfast to go. For more information\,<br />\ncall Kim at 229.921.8960.
LOCATION:
UID:e.3211.895
SEQUENCE:3
DTSTAMP:20260424T074047Z
URL:https://business.thomasvillechamber.com/events/details/dine-dash-895
END:VEVENT

END:VCALENDAR
