BEGIN:VCALENDAR
VERSION:2.0
PRODID:-//ChamberMaster//Event Calendar 2.0//EN
METHOD:PUBLISH
X-PUBLISHED-TTL:P3D
REFRESH-INTERVAL:P3D
CALSCALE:GREGORIAN
BEGIN:VEVENT
DTSTART:20230923T220000Z
DTEND:20230924T020000Z
X-MICROSOFT-CDO-ALLDAYEVENT:FALSE
SUMMARY:Dinner on the Bricks
DESCRIPTION:A creative Outdoor Dinner Party! Your participation in creating an environment of healing and hope for children by providing positive experiences and a safe place for each child to grow.
X-ALT-DESC;FMTTYPE=text/html:A creative Outdoor Dinner Party! Your participation in creating an environment of healing and hope for children by providing positive experiences and a safe place for each child to grow.
LOCATION:Center for the Arts Thomasville 600 E Washington St. Thomasville\, GA 31792
UID:e.3211.1676
SEQUENCE:3
DTSTAMP:20260421T014725Z
URL:https://business.thomasvillechamber.com/events/details/dinner-on-the-bricks-09-23-2023-1676
END:VEVENT

END:VCALENDAR
