BEGIN:VCALENDAR
VERSION:2.0
PRODID:-//ChamberMaster//Event Calendar 2.0//EN
METHOD:PUBLISH
X-PUBLISHED-TTL:P3D
REFRESH-INTERVAL:P3D
CALSCALE:GREGORIAN
BEGIN:VEVENT
DTSTART:20220924T230000Z
DTEND:20220925T020000Z
X-MICROSOFT-CDO-ALLDAYEVENT:FALSE
SUMMARY:Dinner on the Bricks
DESCRIPTION:Dinner on the Bricks is a colorful evening that brings people together for food\, music\, and fun. To participate\, sponsors purchase a table of eight seats and gather a group of friends or colleagues. We encourage you to join in the fun and create a theme for your table. Costumes makes things especially festive!\n\n \n\nTable judges award prizes for winners in four categories: Most Elegant\, Most Original\, Best Costume\, and Best Overall.\n\n \n\nTable sales will go live on Monday\, August 1st\, please visit www.vashti.org to purchase your table.  For more information\, please contact Alex English\, at the Vashti Center\, (229) 226-4634.\n\n \n\nHere are the sponsorship levels if you would like to include them or just for your own knowledge:\n\n \n\nMonarch ($300)\n\n1 table (8 guests\, white table linen)\n\nOpportunity to compete in table d cor contest\n\nEnter drawing for $200 in Downtown Bucks\n\nSponsorship recognition on Vashti website and social media\n\nBring a picnic for your table or purchase a BBQ plate from Vashti\n\n \n\nTiger Swallowtail ($1\,000)\n\nIn addition to all the Monarch benefits:\n\nPreferred table location\n\nFully catered dinner\n\nSponsorship recognition in all press releases\n\n \n\nBlue Morpho ($2\,500)\n\nIn addition to all Monarch and Tiger Swallowtail benefits:\n\nUp to 2 tables (16 guests)\n\nPreferred table location closest to the stage/bar area
X-ALT-DESC;FMTTYPE=text/html:Dinner on the Bricks is a colorful evening that brings people together for food\, music\, and fun. To participate\, sponsors purchase a table of eight seats and gather a group of friends or colleagues. We encourage you to join in the fun and create a theme for your table. Costumes makes things especially festive!<br />\n&nbsp\;<br />\nTable judges award prizes for winners in four categories: Most Elegant\, Most Original\, Best Costume\, and Best Overall.<br />\n&nbsp\;<br />\nTable sales will go live on Monday\, August 1<sup>st</sup>\, please visit <a href="http://www.vashti.org">www.vashti.org</a> to purchase your table. &nbsp\;For more information\, please contact Alex English\, at the Vashti Center\, (229) 226-4634.<br />\n&nbsp\;<br />\nHere are the sponsorship levels if you would like to include them or just for your own knowledge:<br />\n&nbsp\;<br />\nMonarch ($300)<br />\n1 table (8 guests\, white table linen)<br />\nOpportunity to compete in table d&eacute\;cor contest<br />\nEnter drawing for $200 in Downtown Bucks<br />\nSponsorship recognition on Vashti website and social media<br />\nBring a picnic for your table or purchase a BBQ plate from Vashti<br />\n&nbsp\;<br />\nTiger Swallowtail ($1\,000)<br />\nIn addition to all the Monarch benefits:<br />\nPreferred table location<br />\nFully catered dinner<br />\nSponsorship recognition in all press releases<br />\n&nbsp\;<br />\nBlue Morpho ($2\,500)<br />\nIn addition to all Monarch and Tiger Swallowtail benefits:<br />\nUp to 2 tables (16 guests)<br />\nPreferred table location closest to the stage/bar area
LOCATION:
UID:e.3211.1018
SEQUENCE:3
DTSTAMP:20260422T153633Z
URL:https://business.thomasvillechamber.com/events/details/dinner-on-the-bricks-1018
END:VEVENT

END:VCALENDAR
