BEGIN:VCALENDAR
VERSION:2.0
PRODID:-//ChamberMaster//Event Calendar 2.0//EN
METHOD:PUBLISH
X-PUBLISHED-TTL:P3D
REFRESH-INTERVAL:P3D
CALSCALE:GREGORIAN
BEGIN:VEVENT
DTSTART;VALUE=DATE:20220408
DTEND;VALUE=DATE:20220411
TRANSP:TRANSPARENT
X-MICROSOFT-CDO-ALLDAYEVENT:TRUE
SUMMARY:Due South
DESCRIPTION:For a decade\, Due South has been serving up the authentic southern connection between music\, food and brew with chart-topping national and regional musical talent. While we couldn't gather with all our friends in The Ritz Amphitheater in Spring 2021\, we were still able to host the Due South ShinDig that we've all come to love. A mouthwatering southern supper from White Oak Pastures\, brew from Pretoria Fields\, and signature spirits from Cathead Distillery made for a perfect Thomasville evening\, all in the comfort of party pods   safely distanced.\n\nBut\, ready for the good news? We're back for 2022!\n\nSAVE THE DATES:\n\nApril 8\, 2022 | Rhythm & Roots \n\nApril 9\, 2022 | ShinDig \n\nApril 10\, 2022 | Gospel & Greens\n\n\n\nAnd if you're craving live music sooner\, we'll also be rocking Under the Oaks with live music from local talent\, food trucks\, and cold brew on 2nd Saturdays.
X-ALT-DESC;FMTTYPE=text/html:<div class="elementor-text-editor elementor-clearfix" style="box-sizing: border-box\; color: rgb(138\, 134\, 134)\; font-family: Helvetica\, Roboto\; font-size: 14px\; background-color: rgb(255\, 255\, 255)\;">\n<p style="box-sizing: border-box\; margin: 0px 0px 20px\; color: rgb(119\, 119\, 119)\;"><span style="box-sizing: border-box\; color: rgb(0\, 0\, 0)\;"><span style="box-sizing: border-box\; font-family: var( --e-global-typography-text-font-family )\, Roboto\;">For a decade\, Due South has been serving up the&nbsp\;authentic southern connection between music\, food and brew with chart-topping&nbsp\;national and regional musical talent.&nbsp\;</span><span style="box-sizing: border-box\; font-family: var( --e-global-typography-text-font-family )\, Roboto\; font-weight: var( --e-global-typography-text-font-weight )\;">While we couldn&rsquo\;t gather with all our friends in The Ritz Amphitheater in Spring 2021\, we were still able to host the Due South ShinDig that we&rsquo\;ve all come to love. A mouthwatering southern supper from White Oak Pastures\, brew from Pretoria Fields\, and signature spirits from Cathead Distillery made for a perfect Thomasville evening\, all in the comfort of party pods &ndash\; safely distanced.</span></span></p>\n\n<p style="box-sizing: border-box\; margin: 0px 0px 20px\; color: rgb(119\, 119\, 119)\;"><span style="box-sizing: border-box\; color: rgb(0\, 0\, 0)\;">But\, ready for the good news? We&rsquo\;re back for 2022!</span></p>\n\n<p style="box-sizing: border-box\; margin: 0px 0px 20px\; color: rgb(119\, 119\, 119)\;"><span style="box-sizing: border-box\; color: rgb(0\, 0\, 0)\;"><strong style="box-sizing: border-box\; color: rgb(17\, 17\, 17)\;">SAVE THE DATES:</strong><br style="box-sizing: border-box\;" />\nApril 8\, 2022 | Rhythm &amp\; Roots&nbsp\;<br style="box-sizing: border-box\;" />\nApril 9\, 2022 | ShinDig&nbsp\;<br style="box-sizing: border-box\;" />\nApril 10\, 2022 | Gospel &amp\; Greens</span></p>\n</div>\n\n<div class="elementor-text-editor elementor-clearfix" style="box-sizing: border-box\; color: rgb(138\, 134\, 134)\; font-family: Helvetica\, Roboto\; font-size: 14px\; background-color: rgb(255\, 255\, 255)\;">\n<p style="box-sizing: border-box\; margin: 0px 0px 20px\; color: rgb(119\, 119\, 119)\;"><span style="box-sizing: border-box\; color: rgb(0\, 0\, 0)\;"><span style="box-sizing: border-box\; font-family: var( --e-global-typography-text-font-family )\, Roboto\; font-weight: var( --e-global-typography-text-font-weight )\;">And if you&rsquo\;re craving live music sooner\, we&rsquo\;ll also be rocking&nbsp\;<a href="https://thomasvillearts.org/live-under-the-oaks/" style="box-sizing: border-box\; background-color: transparent\; color: rgb(0\, 0\, 0)\; text-decoration-line: none\; outline: none\; box-shadow: none\; font-family: var( --e-global-typography-text-font-family )\, Roboto\; font-size: var( --e-global-typography-text-font-size )\; font-weight: var( --e-global-typography-text-font-weight )\;">Under the Oaks</a>&nbsp\;</span><span style="box-sizing: border-box\; font-family: var( --e-global-typography-text-font-family )\, Roboto\; font-weight: var( --e-global-typography-text-font-weight )\;">with live music from local talent\, food trucks\, and cold brew on 2nd Saturdays.</span></span></p>\n</div>\n
LOCATION:
UID:e.3211.982
SEQUENCE:3
DTSTAMP:20260423T014600Z
URL:https://business.thomasvillechamber.com/events/details/due-south-982
END:VEVENT

END:VCALENDAR
