BEGIN:VCALENDAR
VERSION:2.0
PRODID:-//ChamberMaster//Event Calendar 2.0//EN
METHOD:PUBLISH
X-PUBLISHED-TTL:P3D
REFRESH-INTERVAL:P3D
CALSCALE:GREGORIAN
BEGIN:VEVENT
DTSTART:20190319T123000Z
DTEND:20190319T150000Z
X-MICROSOFT-CDO-ALLDAYEVENT:FALSE
SUMMARY:Employment Law Update
DESCRIPTION:Who Should Attend?\n\nThis seminar is designed to meet the needs of business owners\, managers\, human resource professionals\, and other professionals with interest in labor and employment law. \n\n\n\nCovered topics will include:  \n\n	Immigration\, I-9 forms\n	OSHA\n	Handbooks\n	Sexual Harassment (Me Too movement)\n\nSpeaker Bio:\n\nMr. Willcox is a partner in the firm and serves as the practice group leader for the firm's Employment Practice and General Liability practice groups.  Mr. Willcox's practice is dedicated to the defense of businesses and individuals in civil litigation with an emphasis in employment litigation\, civil rights litigation\, and general civil litigation.  Mr. Willcox defends employers and management in state and federal courts\, private mediation and arbitration\, and matters before various administrative agencies in claims involving Title VII\, FLSA\, ADEA\, ADA\, EPA\, FMLA\, OSHA\, Section 1981\, and related tort claims arising from the hiring\, retaining\, promoting\, disciplining\, and termination of employees. Mr. Willcox also defends governmental entities in Section 1983 governmental liability claims. \n\n\n\nMr. Willcox maintains an AV Preeminent   Rating from Martindale Hubbell in the areas of litigation\, labor and employment\, and torts\, and has been recognized in Georgia Trend Magazine as one of Georgia's "Legal Elite" in Labor and Employment.   Mr. Willcox is married to DeeDee Willcox and they have three children. \n\n\n\nFull bio: http://www.mcdr-law.com/jason_willcox.html \n\n\n\nClick here for Registration Form
X-ALT-DESC;FMTTYPE=text/html:<u><strong>Who Should Attend?</strong></u><br />\nThis seminar is designed to meet the needs of business owners\, managers\, human resource professionals\, and other professionals with interest in labor and employment law.&nbsp\;<br />\n<br />\n<u><strong>Covered topics will include:&nbsp\;&nbsp\;</strong></u>\n<ul>\n	<li>Immigration\, I-9 forms</li>\n	<li>OSHA</li>\n	<li>Handbooks</li>\n	<li>Sexual Harassment (Me Too movement)</li>\n</ul>\n<u><strong>Speaker Bio:</strong></u><br />\nMr. Willcox is a partner in the firm and serves as the practice group leader for the firm&rsquo\;s Employment Practice and General Liability practice groups.&nbsp\; Mr. Willcox&rsquo\;s practice is dedicated to the defense of businesses and individuals in civil litigation with an emphasis in employment litigation\, civil rights litigation\, and general civil litigation.&nbsp\; Mr. Willcox defends employers and management in state and federal courts\, private mediation and arbitration\, and matters before various administrative agencies in claims involving Title VII\, FLSA\, ADEA\, ADA\, EPA\, FMLA\, OSHA\, Section 1981\, and related tort claims arising from the hiring\, retaining\, promoting\, disciplining\, and termination of employees. Mr. Willcox also defends governmental entities in Section 1983 governmental liability claims.&nbsp\;<br />\n<br />\nMr. Willcox maintains an AV Preeminent &reg\; Rating from Martindale Hubbell in the areas of litigation\, labor and employment\, and torts\, and has been recognized in Georgia Trend Magazine as one of Georgia&rsquo\;s &ldquo\;Legal Elite&rdquo\; in Labor and Employment.&nbsp\; &nbsp\;Mr. Willcox is married to DeeDee Willcox and they have three children.&nbsp\;<br />\n<br />\nFull bio:&nbsp\;<a href="http://www.mcdr-law.com/jason_willcox.html">http://www.mcdr-law.com/jason_willcox.html&nbsp\;</a><br />\n<br />\nClick here for <a href="https://chambermaster.blob.core.windows.net/userfiles/UserFiles/chambers/3211/File/ChamberThomasCoEmployerCommitteeMarch2019flyer.pdf">Registration Form</a>
LOCATION:The Chamber 401 South Broad Street Thomasville\, Ga 31792
UID:e.3211.514
SEQUENCE:3
DTSTAMP:20260425T174147Z
URL:https://business.thomasvillechamber.com/events/details/employment-law-update-514
END:VEVENT

END:VCALENDAR
