BEGIN:VCALENDAR
VERSION:2.0
PRODID:-//ChamberMaster//Event Calendar 2.0//EN
METHOD:PUBLISH
X-PUBLISHED-TTL:P3D
REFRESH-INTERVAL:P3D
CALSCALE:GREGORIAN
BEGIN:VEVENT
DTSTART:20220217T210000Z
DTEND:20220217T230000Z
X-MICROSOFT-CDO-ALLDAYEVENT:FALSE
SUMMARY:Envision Credit Union Chamber Connects
DESCRIPTION:Chamber Connects\, formerly known as Cocktails and Commerce\, is our monthly networking event. Our February Chamber Connects is hosted by Envision Credit Union!\n\n\n\nThe networking event will take place at their place of business located at 85 Liberty Street on February 17th at 4 PM-6PM. The host will be giving away door prizes\, giveaway items\, and serving refreshments! We hope you will join us and use this as your opportunity to network with other businesses in Thomasville and Thomas County. \n\n\n\nMore about Envision Credit Union:\n\n\n\nEnvision Credit Union in North Florida and South Georgia is dedicated to providing products and services that improve our members' financial positions including checking accounts\, savings accounts\, mortgages\, auto loans\, business loans and much more. Bank online\, with our mobile app or visit one of our conveniently located branches in Tallahassee\, Marianna\, Chattahoochee and Quincy\, Florida as well as Bainbridge and Thomasville\, Georgia.
X-ALT-DESC;FMTTYPE=text/html:<div class="cxmmr5t8 oygrvhab hcukyx3x c1et5uql o9v6fnle" style="overflow-wrap: break-word\; margin: 0.5em 0px 0px\; font-family: &quot\;Segoe UI Historic&quot\;\, &quot\;Segoe UI&quot\;\, Helvetica\, Arial\, sans-serif\; color: rgb(5\, 5\, 5)\; font-size: 15px\;">Chamber Connects\, formerly known as Cocktails and Commerce\, is our monthly networking event. Our February Chamber Connects is hosted by <a href="https://www.envisioncu.com/"><strong>Envision Credit Union</strong></a>!<br />\n<br />\nThe networking event will take place at their place of business located at 85 Liberty Street on February 17th at 4 PM-6PM. The host will be giving away door prizes\, giveaway items\, and serving refreshments! We hope you will join us and use this as your opportunity to network with other businesses in Thomasville and Thomas County.&nbsp\;<br />\n<br />\n<strong>More about Envision Credit Union:</strong><br />\n<br />\nEnvision Credit Union in North Florida and South Georgia is dedicated to providing products and services that improve our members&rsquo\; financial positions including checking accounts\, savings accounts\, mortgages\, auto loans\, business loans and much more. Bank online\, with our mobile app or visit one of our conveniently located branches in Tallahassee\, Marianna\, Chattahoochee and Quincy\, Florida as well as Bainbridge and Thomasville\, Georgia.</div>\n
LOCATION:85 Liberty Street Thomasville\, GA 31757
UID:e.3211.976
SEQUENCE:3
DTSTAMP:20260423T052715Z
URL:https://business.thomasvillechamber.com/events/details/envision-credit-union-chamber-connects-976
END:VEVENT

END:VCALENDAR
