BEGIN:VCALENDAR
VERSION:2.0
PRODID:-//ChamberMaster//Event Calendar 2.0//EN
METHOD:PUBLISH
X-PUBLISHED-TTL:P3D
REFRESH-INTERVAL:P3D
CALSCALE:GREGORIAN
BEGIN:VEVENT
DTSTART:20180929T150000Z
DTEND:20180930T010000Z
X-MICROSOFT-CDO-ALLDAYEVENT:FALSE
SUMMARY:Farmer's Daughter Fall Sidewalk Sale
DESCRIPTION:
X-ALT-DESC;FMTTYPE=text/html:
LOCATION:
UID:e.3211.345
SEQUENCE:3
DTSTAMP:20260426T033238Z
URL:https://business.thomasvillechamber.com/events/details/farmer-s-daughter-fall-sidewalk-sale-345
END:VEVENT

END:VCALENDAR
