BEGIN:VCALENDAR
VERSION:2.0
PRODID:-//ChamberMaster//Event Calendar 2.0//EN
METHOD:PUBLISH
X-PUBLISHED-TTL:P3D
REFRESH-INTERVAL:P3D
CALSCALE:GREGORIAN
BEGIN:VEVENT
DTSTART:20220919T220000Z
DTEND:20220920T000000Z
X-MICROSOFT-CDO-ALLDAYEVENT:FALSE
SUMMARY:First Option Care Fundraising Banquet
DESCRIPTION:First Option Care will host its 2022 Annual Fall Fundraising Banquet on Monday\, September 19th at the First Presbyterian Church\, 225 E. Jackson Street\, Thomasville\, Georgia.  The Banquet will begin at 6:00 p.m. and includes dinner and a featured guest speaker.  Corporate sponsorships will be available and all funds raised at the event will benefit local Moms & Babies served at First Option Care Pregnancy Resource Center.  For more information\, contact info@1stoption.care via email.
X-ALT-DESC;FMTTYPE=text/html:<span style="font-size:12.0pt\;">First Option Care will host its 2022 Annual Fall Fundraising Banquet on Monday\, September 19<sup>th</sup> at the First Presbyterian Church\, 225 E. Jackson Street\, Thomasville\, Georgia.&nbsp\; The Banquet will begin at 6:00 p.m. and includes dinner and a featured guest speaker.&nbsp\; Corporate sponsorships will be available and all funds raised at the event will benefit local Moms &amp\; Babies served at First Option Care Pregnancy Resource Center.&nbsp\; For more information\, contact <a href="mailto:info@1stoption.care">info@1stoption.care</a> via email.</span><br />\n&nbsp\;
LOCATION:First Presbyterian Church in Thomasville
UID:e.3211.1005
SEQUENCE:3
DTSTAMP:20260422T170249Z
URL:https://business.thomasvillechamber.com/events/details/first-option-care-fundraising-banquet-1005
END:VEVENT

END:VCALENDAR
