BEGIN:VCALENDAR
VERSION:2.0
PRODID:-//ChamberMaster//Event Calendar 2.0//EN
METHOD:PUBLISH
X-PUBLISHED-TTL:P3D
REFRESH-INTERVAL:P3D
CALSCALE:GREGORIAN
BEGIN:VEVENT
DTSTART:20220331T130000Z
DTEND:20220331T190000Z
X-MICROSOFT-CDO-ALLDAYEVENT:FALSE
SUMMARY:FPL Foods Job Fair
DESCRIPTION:FPL Foods will be hosting a job fair here at the Chamber this Thursday\, March 31st from 9-3. \n\n\n\n \n\n\n\nThey will be hiring on site for general production positions with a starting salary of $15 per hour.\n\n\n\n \n\n\n\nLearn More about FPL Food at fplfood.com
X-ALT-DESC;FMTTYPE=text/html:<div data-block="true" data-editor="9se62" data-offset-key="bjq6c-0-0" style="color: rgba(0\, 0\, 0\, 0.85)\; font-family: Roboto\, Arial\, sans-serif\; font-size: 14px\; white-space: pre-wrap\;">\n<div class="_1mf _1mj" data-offset-key="bjq6c-0-0" style="position: relative\; direction: ltr\;"><span data-offset-key="bjq6c-0-0">FPL Foods will be hosting a job fair here at the Chamber this Thursday\, March 31st from 9-3. </span></div>\n</div>\n\n<div data-block="true" data-editor="9se62" data-offset-key="3ft1p-0-0" style="color: rgba(0\, 0\, 0\, 0.85)\; font-family: Roboto\, Arial\, sans-serif\; font-size: 14px\; white-space: pre-wrap\;">\n<div class="_1mf _1mj" data-offset-key="3ft1p-0-0" style="position: relative\; direction: ltr\;">&nbsp\;</div>\n</div>\n\n<div data-block="true" data-editor="9se62" data-offset-key="cbbal-0-0" style="color: rgba(0\, 0\, 0\, 0.85)\; font-family: Roboto\, Arial\, sans-serif\; font-size: 14px\; white-space: pre-wrap\;">\n<div class="_1mf _1mj" data-offset-key="cbbal-0-0" style="position: relative\; direction: ltr\;"><span data-offset-key="cbbal-0-0">They will be hiring on site for general production positions with a starting salary of $15 per hour.</span></div>\n</div>\n\n<div data-block="true" data-editor="9se62" data-offset-key="7hvga-0-0" style="color: rgba(0\, 0\, 0\, 0.85)\; font-family: Roboto\, Arial\, sans-serif\; font-size: 14px\; white-space: pre-wrap\;">\n<div class="_1mf _1mj" data-offset-key="7hvga-0-0" style="position: relative\; direction: ltr\;">&nbsp\;</div>\n</div>\n\n<div data-block="true" data-editor="9se62" data-offset-key="fchpo-0-0" style="color: rgba(0\, 0\, 0\, 0.85)\; font-family: Roboto\, Arial\, sans-serif\; font-size: 14px\; white-space: pre-wrap\;">\n<div class="_1mf _1mj" data-offset-key="fchpo-0-0" style="position: relative\; direction: ltr\;"><span data-offset-key="fchpo-0-0">Learn More about FPL Food at fplfood.com </span></div>\n</div>\n
LOCATION:
UID:e.3211.1003
SEQUENCE:3
DTSTAMP:20260423T052820Z
URL:https://business.thomasvillechamber.com/events/details/fpl-foods-job-fair-1003
END:VEVENT

END:VCALENDAR
