BEGIN:VCALENDAR
VERSION:2.0
PRODID:-//ChamberMaster//Event Calendar 2.0//EN
METHOD:PUBLISH
X-PUBLISHED-TTL:P3D
REFRESH-INTERVAL:P3D
CALSCALE:GREGORIAN
BEGIN:VEVENT
DTSTART:20221116T143000Z
DTEND:20221116T170000Z
X-MICROSOFT-CDO-ALLDAYEVENT:FALSE
SUMMARY:Free TU workshop to discuss career opportunities in cybersecurity
DESCRIPTION:Thomas University's Center for Military Life will present the free workshop "See Yourself in Cyber" that will feature speakers from state and federal government as well as industry discussing career opportunities in the field of cybersecurity. The event will be held from 9:30 a.m. to noon Wednesday\, Nov. 16\, in the Flowers Foods Executive Classroom inside Smith-Bonvillian Hall on TU's Forbes Campus. Speakers for the workshop will include Master Sergeant Frank Estrada with the U.S. Army\; Lori Battle\, an Assistant Professor of Criminal Justice at Thomas University\; Lisa Cochran\, Chief Information Officer with VyStar Credit Union\; and Kevin A. McGrail\, Principal Evangelist for Dito.
X-ALT-DESC;FMTTYPE=text/html:Thomas University&rsquo\;s Center for Military Life will present the free workshop &ldquo\;See Yourself in Cyber&rdquo\; that will feature speakers from state and federal government as well as industry discussing career opportunities in the field of cybersecurity. The event will be held from 9:30 a.m. to noon Wednesday\, Nov. 16\, in the Flowers Foods Executive Classroom inside Smith-Bonvillian Hall on TU&rsquo\;s Forbes Campus. Speakers for the workshop will include Master Sergeant Frank Estrada with the U.S. Army\; Lori Battle\, an Assistant Professor of Criminal Justice at Thomas University\; Lisa Cochran\, Chief Information Officer with VyStar Credit Union\; and Kevin A. McGrail\, Principal Evangelist for Dito.
LOCATION:Smith-Bonvillian Hall\, Forbes Campus\, Thomas University\, 1501 Millpond Road\, Thomasville
UID:e.3211.1652
SEQUENCE:3
DTSTAMP:20260422T121138Z
URL:https://business.thomasvillechamber.com/events/details/free-tu-workshop-to-discuss-career-opportunities-in-cybersecurity-1652
END:VEVENT

END:VCALENDAR
