BEGIN:VCALENDAR
VERSION:2.0
PRODID:-//ChamberMaster//Event Calendar 2.0//EN
METHOD:PUBLISH
X-PUBLISHED-TTL:P3D
REFRESH-INTERVAL:P3D
CALSCALE:GREGORIAN
BEGIN:VEVENT
DTSTART:20220526T210000Z
DTEND:20220526T230000Z
X-MICROSOFT-CDO-ALLDAYEVENT:FALSE
SUMMARY:Full Circle Lawn & Landscaping After Hours Ribbon Cutting
DESCRIPTION:We will be celebrating our new partners at Full Circle Lawn & Landscaping with a ribbon cutting ceremony HERE AT THE CHAMBER on May 26th from 5-7 PM! We will be enjoying cocktails\, light bites and games of cornhole on the front lawn at 401 S. Broad St. Thomasville\, GA 31792. You don't want to miss this one!!\n\n\n\n \n\n\n\n                                 :\n\n\n\nWe understand that your time is important - between work and family\, who wants to spend the weekend sweating in the South Georgia sun? We offer complete coverage of your lawn - monthly and one time maintenance packages\, landscape design and landscape installation. So whether you need our help once or every week\, we're here for you. Enjoy your family and leave the work to us.
X-ALT-DESC;FMTTYPE=text/html:<div data-block="true" data-editor="661dn" data-offset-key="ah836-0-0" style="color: rgb(28\, 43\, 51)\; font-family: -apple-system\, BlinkMacSystemFont\, &quot\;Segoe UI&quot\;\, Roboto\, Helvetica\, Arial\, sans-serif\, &quot\;Apple Color Emoji&quot\;\, &quot\;Segoe UI Emoji&quot\;\, &quot\;Segoe UI Symbol&quot\;\; font-size: 14px\; white-space: pre-wrap\;">\n<div class="_1mf _1mj" data-offset-key="ah836-0-0" style="position: relative\; direction: ltr\;"><span style="font-size:16px\;"><span data-offset-key="ah836-0-0">&#120389\;&#120420\;&#120414\;&#120419\; &#120426\;&#120424\; &bull\; We will be celebrating our new partners at Full Circle Lawn &amp\; Landscaping with a ribbon cutting ceremony HERE AT THE CHAMBER on May 26th from 5-7 PM! We will be enjoying cocktails\, light bites and games of cornhole on the front lawn at 401 S. Broad St. Thomasville\, GA 31792. You don&#39\;t want to miss this one!!</span></span></div>\n</div>\n\n<div data-block="true" data-editor="661dn" data-offset-key="aa4dv-0-0" style="color: rgb(28\, 43\, 51)\; font-family: -apple-system\, BlinkMacSystemFont\, &quot\;Segoe UI&quot\;\, Roboto\, Helvetica\, Arial\, sans-serif\, &quot\;Apple Color Emoji&quot\;\, &quot\;Segoe UI Emoji&quot\;\, &quot\;Segoe UI Symbol&quot\;\; font-size: 14px\; white-space: pre-wrap\;">\n<div class="_1mf _1mj" data-offset-key="aa4dv-0-0" style="position: relative\; direction: ltr\;">&nbsp\;</div>\n</div>\n\n<div data-block="true" data-editor="661dn" data-offset-key="538f6-0-0" style="color: rgb(28\, 43\, 51)\; font-family: -apple-system\, BlinkMacSystemFont\, &quot\;Segoe UI&quot\;\, Roboto\, Helvetica\, Arial\, sans-serif\, &quot\;Apple Color Emoji&quot\;\, &quot\;Segoe UI Emoji&quot\;\, &quot\;Segoe UI Symbol&quot\;\; font-size: 14px\; white-space: pre-wrap\;">\n<div class="_1mf _1mj" data-offset-key="538f6-0-0" style="position: relative\; direction: ltr\;"><span style="font-size:16px\;"><span data-offset-key="538f6-0-0">&#120380\; &#120418\;&#120410\;&#120424\;&#120424\;&#120406\;&#120412\;&#120410\; &#120411\;&#120423\;&#120420\;&#120418\; &#120420\;&#120428\;&#120419\;&#120410\;&#120423\; &#120382\;&#120426\;&#120423\;&#120425\;&#120414\;&#120424\; &#120383\;&#120406\;&#120427\;&#120414\;&#120424\;:</span></span></div>\n</div>\n\n<div data-block="true" data-editor="661dn" data-offset-key="et7mg-0-0" style="color: rgb(28\, 43\, 51)\; font-family: -apple-system\, BlinkMacSystemFont\, &quot\;Segoe UI&quot\;\, Roboto\, Helvetica\, Arial\, sans-serif\, &quot\;Apple Color Emoji&quot\;\, &quot\;Segoe UI Emoji&quot\;\, &quot\;Segoe UI Symbol&quot\;\; font-size: 14px\; white-space: pre-wrap\;">\n<div class="_1mf _1mj" data-offset-key="et7mg-0-0" style="position: relative\; direction: ltr\;"><span style="font-size:16px\;"><span data-offset-key="et7mg-0-0">We understand that your time is important - between work and family\, who wants to spend the weekend sweating in the South Georgia sun? We offer complete coverage of your lawn - monthly and one time maintenance packages\, landscape design and landscape installation. So whether you need our help once or every week\, we&#39\;re here for you. Enjoy your family and leave the work to us. </span></span></div>\n</div>\n
LOCATION:at the Chamber located at 401 S. Broad St. Thomasville\, GA 31792
UID:e.3211.1012
SEQUENCE:3
DTSTAMP:20260423T001355Z
URL:https://business.thomasvillechamber.com/events/details/full-circle-lawn-landscaping-after-hours-ribbon-cutting-1012
END:VEVENT

END:VCALENDAR
