BEGIN:VCALENDAR
VERSION:2.0
PRODID:-//ChamberMaster//Event Calendar 2.0//EN
METHOD:PUBLISH
X-PUBLISHED-TTL:P3D
REFRESH-INTERVAL:P3D
CALSCALE:GREGORIAN
BEGIN:VEVENT
DTSTART:20220312T230000Z
DTEND:20220313T020000Z
X-MICROSOFT-CDO-ALLDAYEVENT:FALSE
SUMMARY:FUSE Event
DESCRIPTION:Let's get together!\n									We're hosting our annual FUSE event\, and we'd love to see you there. Join us for FUSE 2022: 90's Rock\, March 12\, 2022 at 6:00 PM and March 13 at 2:00 PM. .\n\n									Dana King and the Gypsy Cotton will be playing all of your favorite 90's rock songs! Join SGB's energetic and entertaining dance concert at our outside stage venue at The Thomasville Center for the Arts. Bring your own chairs and picnic blankets and sit back and enjoy the show!\n\n									Food and drinks will be available for purchase at the event. Adult beverages will be available on March 12 at 6:00PM. Adult tickets are $25 and children/students are $15. Show time runs around 1 hour and there is an afterparty for dancing under the stars! \n\n									We hope you're able to join us!
X-ALT-DESC;FMTTYPE=text/html:<table align="center" border="0" cellpadding="0" cellspacing="0" style="width:100.0%\;border-collapse:collapse\;" width="100%">\n	<tbody>\n		<tr>\n			<td style="padding:0in 0in 0in 0in\;vertical-align:top\;">\n			<table align="center" border="0" cellpadding="0" cellspacing="0" style="width:100.0%\;border-collapse:collapse\;" width="100%">\n				<tbody>\n					<tr>\n						<td style="width:560px\;padding:0in 0in 0in 0in\;vertical-align:top\;">\n						<table border="0" cellpadding="0" cellspacing="0" style="width:100.0%\;border-collapse:collapse\;" width="100%">\n							<tbody>\n								<tr>\n									<td style="width:560px\;padding:0in 0in 0in 0in\;">\n									<h1><span style="color:#444444\;"><span style="font-family:roboto\;">Let&rsquo\;s get together!</span></span></h1>\n									<span style="color:#444444\;"><span style="font-family:roboto\;"><span style="font-size:11.5pt\;">We&rsquo\;re hosting our annual FUSE event\, and we&rsquo\;d love to see you there. Join us for FUSE 2022: 90&#39\;s Rock\, March 12\, 2022 at 6:00 PM and March 13 at 2:00 PM. .</span></span></span><br />\n									<span style="color:#444444\;"><span style="font-family:roboto\;"><span style="font-size:11.5pt\;">Dana King and the Gypsy Cotton will be playing all of your favorite 90&#39\;s rock songs! Join SGB&#39\;s energetic and entertaining dance concert at our outside stage venue at The Thomasville Center for the Arts. Bring your own chairs and picnic blankets and sit back and enjoy the show!</span></span></span><br />\n									<span style="color:#444444\;"><span style="font-family:roboto\;"><span style="font-size:11.5pt\;">Food and drinks will be available for purchase at the event. Adult beverages will be available on March 12 at 6:00PM. Adult tickets are $25 and children/students are $15. Show time runs around 1 hour and there is an afterparty for dancing under the stars! </span></span></span><br />\n									<span style="color:#444444\;"><span style="font-family:roboto\;"><span style="font-size:11.5pt\;">We hope you&rsquo\;re able to join us!</span></span></span></td>\n								</tr>\n							</tbody>\n						</table>\n						</td>\n					</tr>\n				</tbody>\n			</table>\n\n			<div style="clear:both\;">&nbsp\;</div>\n			</td>\n		</tr>\n	</tbody>\n</table>\n\n<div style="clear:both\;">&nbsp\;</div>\n
LOCATION:
UID:e.3211.995
SEQUENCE:3
DTSTAMP:20260423T033826Z
URL:https://business.thomasvillechamber.com/events/details/fuse-event-995
END:VEVENT

END:VCALENDAR
