BEGIN:VCALENDAR
VERSION:2.0
PRODID:-//ChamberMaster//Event Calendar 2.0//EN
METHOD:PUBLISH
X-PUBLISHED-TTL:P3D
REFRESH-INTERVAL:P3D
CALSCALE:GREGORIAN
BEGIN:VEVENT
DTSTART:20210803T140000Z
DTEND:20210803T143000Z
X-MICROSOFT-CDO-ALLDAYEVENT:FALSE
SUMMARY:Garrison-Pilcher Ribbon Cutting
DESCRIPTION:Garrison-Pilcher Elementary School has been completely renovated and modernized making the 52 year old school like new again. Now that the project is completed\, Garrison-Pilcher is Thomas County School System's most modern school. We are excited about hosting a ribbon cutting ceremony on Tuesday\, August 3\, at 10:00 a.m. for a school that has seen many changes and tremendous growth through the years.
X-ALT-DESC;FMTTYPE=text/html:Garrison-Pilcher Elementary School has been completely renovated and modernized making the 52 year old school like new again. Now that the project is completed\, Garrison-Pilcher is Thomas County School System&#39\;s most modern school. We are excited about hosting a ribbon cutting ceremony on Tuesday\, August 3\, at 10:00 a.m. for a school that has seen many changes and tremendous growth through the years.&nbsp\;
LOCATION:
UID:e.3211.938
SEQUENCE:3
DTSTAMP:20260423T162004Z
URL:https://business.thomasvillechamber.com/events/details/garrison-pilcher-ribbon-cutting-938
END:VEVENT

END:VCALENDAR
