BEGIN:VCALENDAR
VERSION:2.0
PRODID:-//ChamberMaster//Event Calendar 2.0//EN
METHOD:PUBLISH
X-PUBLISHED-TTL:P3D
REFRESH-INTERVAL:P3D
CALSCALE:GREGORIAN
BEGIN:VEVENT
DTSTART:20220311T150000Z
DTEND:20220311T160000Z
X-MICROSOFT-CDO-ALLDAYEVENT:FALSE
SUMMARY:Goodwill Career Center Ribbon Cutting
DESCRIPTION:Please join us for the grand opening and ribbon-cutting ceremony for the new Goodwill Career Training Center in Thomasville on March 11th at 10 AM at 1955 GA-122 Thomasville\, GA 31757.\n\n \n\nHere are some quick facts about the services that the new career center in Thomasville:\n\n	Career training\, vocational rehabilitation\, job placement and employer services (virtually and in person)\n	CNA training\, Google Programming\, Microsoft Office\, Logistics\, Hospitality\, Social Media trainings and/or certifications\n	Transitional services for justice involved citizens\, training for those reentering the workforce after COVID\, employer job fairs\, resume writing workshops\n	Equipped with job coaches and case managers to provide wrap around services\n	Computer lab to help with resume writing and job applications\n\n\nLearn more by visiting their website here.
X-ALT-DESC;FMTTYPE=text/html:Please join us for the grand opening and ribbon-cutting ceremony for the new Goodwill Career Training Center in Thomasville on March 11<sup>th</sup>&nbsp\;at 10 AM at 1955 GA-122 Thomasville\, GA 31757.<br />\n&nbsp\;<br />\nHere are some quick facts about the services that the new career center in Thomasville:\n<ul>\n	<li style="margin-left:0in\;">Career training\, vocational rehabilitation\, job placement and employer services (virtually and in person)</li>\n	<li style="margin-left:0in\;">CNA training\, Google Programming\, Microsoft Office\, Logistics\, Hospitality\, Social Media trainings and/or certifications</li>\n	<li style="margin-left:0in\;">Transitional services for justice involved citizens\, training for those reentering the workforce after COVID\, employer job fairs\, resume writing workshops</li>\n	<li style="margin-left:0in\;">Equipped with job coaches and case managers to provide wrap around services</li>\n	<li style="margin-left:0in\;">Computer lab to help with resume writing and job applications</li>\n</ul>\n\n<div style="margin-left:0in\;">Learn more by visiting their website <a href="https://www.goodwillbigbend.org/">here.</a></div>\n
LOCATION:1955 GA-122 Thomasville\, GA 31757
UID:e.3211.998
SEQUENCE:3
DTSTAMP:20260423T052733Z
URL:https://business.thomasvillechamber.com/events/details/goodwill-career-center-ribbon-cutting-998
END:VEVENT

END:VCALENDAR
