BEGIN:VCALENDAR
VERSION:2.0
PRODID:-//ChamberMaster//Event Calendar 2.0//EN
METHOD:PUBLISH
X-PUBLISHED-TTL:P3D
REFRESH-INTERVAL:P3D
CALSCALE:GREGORIAN
BEGIN:VEVENT
DTSTART:20230213T180000Z
DTEND:20230213T190000Z
X-MICROSOFT-CDO-ALLDAYEVENT:FALSE
SUMMARY:Hand Dev./Grand Park Apartments Ribbon Cutting
DESCRIPTION:Ribbon Cutting for Grand Park Apartments
X-ALT-DESC;FMTTYPE=text/html:Ribbon Cutting for Grand Park Apartments&nbsp\;&nbsp\;&nbsp\;&nbsp\;
LOCATION:1 Grand Park Lane\, Thomasville\, GA 31792
UID:e.3211.1664
SEQUENCE:3
DTSTAMP:20260422T082019Z
URL:https://business.thomasvillechamber.com/events/details/hand-dev-grand-park-apartments-ribbon-cutting-1664
END:VEVENT

END:VCALENDAR
