BEGIN:VCALENDAR
VERSION:2.0
PRODID:-//ChamberMaster//Event Calendar 2.0//EN
METHOD:PUBLISH
X-PUBLISHED-TTL:P3D
REFRESH-INTERVAL:P3D
CALSCALE:GREGORIAN
BEGIN:VEVENT
DTSTART:20220213T000000Z
DTEND:20220213T040000Z
X-MICROSOFT-CDO-ALLDAYEVENT:FALSE
SUMMARY:Happy Hearts Hop
DESCRIPTION:Community dance for all ages with all genera of music covering many decades of group dance songs for all to enjoy.
X-ALT-DESC;FMTTYPE=text/html:Community dance for all ages with all genera of music covering many decades of group dance songs for all to enjoy.
LOCATION:2061 W McDonald St\, Pavo\, GA 31778
UID:e.3211.984
SEQUENCE:3
DTSTAMP:20260423T052711Z
URL:https://business.thomasvillechamber.com/events/details/happy-hearts-hop-984
END:VEVENT

END:VCALENDAR
