BEGIN:VCALENDAR
VERSION:2.0
PRODID:-//ChamberMaster//Event Calendar 2.0//EN
METHOD:PUBLISH
X-PUBLISHED-TTL:P3D
REFRESH-INTERVAL:P3D
CALSCALE:GREGORIAN
BEGIN:VEVENT
DTSTART:20210923T223000Z
DTEND:20210923T233000Z
X-MICROSOFT-CDO-ALLDAYEVENT:FALSE
SUMMARY:Healthcare Heroes Pep Rally
DESCRIPTION:Health Care Heroes Pep Rally for Archbold is September 23rd from 6:30-7:30pm. Bring your signs\, your noisemakers\, and your smiles.\n\n \n\nPlan to arrive between 6:00 and 6:15. Park in the lot between Jerger Elementary and the hospital on the corner of Mimosa and N. Pastime Dr.
X-ALT-DESC;FMTTYPE=text/html:<span style="color:#404040\;"><span style="font-family:century gothic\,sans-serif\;"><span style="font-size:12.0pt\;">Health Care Heroes Pep Rally for Archbold is September 23rd from 6:30-7:30pm. Bring your signs\, your noisemakers\, and your smiles.</span></span></span><br />\n&nbsp\;<br />\n<span style="color:#404040\;"><span style="font-family:century gothic\,sans-serif\;"><span style="font-size:12.0pt\;">Plan to arrive between 6:00 and 6:15. Park in the lot between Jerger Elementary and the hospital on the corner of Mimosa and N. Pastime Dr.</span></span></span><br />\n&nbsp\;
LOCATION:
UID:e.3211.956
SEQUENCE:3
DTSTAMP:20260423T145319Z
URL:https://business.thomasvillechamber.com/events/details/healthcare-heroes-pep-rally-956
END:VEVENT

END:VCALENDAR
