BEGIN:VCALENDAR
VERSION:2.0
PRODID:-//ChamberMaster//Event Calendar 2.0//EN
METHOD:PUBLISH
X-PUBLISHED-TTL:P3D
REFRESH-INTERVAL:P3D
CALSCALE:GREGORIAN
BEGIN:VEVENT
DTSTART:20240312T130000Z
DTEND:20240313T190000Z
X-MICROSOFT-CDO-ALLDAYEVENT:FALSE
SUMMARY:Hiring Event- Shamrock and Roll into your Career
DESCRIPTION:National Day of Hiring for All Ways Caring Home Care in Thomasville Ga. We are looking to hire experienced caregivers to assist with providing compassionate care to our clients in the 7 counties we serve (Thomas\, Mitchell\, Grady\, Colquitt\, Miller\, Seminole and Decatur). We offer flexible schedules\, daily pay options\, benefits\, bonus incentives and more. Apply at www.allwayscaring.com
X-ALT-DESC;FMTTYPE=text/html:National Day of Hiring for All Ways Caring Home Care in Thomasville Ga. We are looking to hire experienced caregivers to assist with providing compassionate care to our clients in the 7 counties we serve (Thomas\, Mitchell\, Grady\, Colquitt\, Miller\, Seminole and Decatur). We offer flexible schedules\, daily pay options\, benefits\, bonus incentives and more. Apply at www.allwayscaring.com
LOCATION:13881 US Hwy 319 N\, Thomasville Ga 31757
UID:e.3211.1690
SEQUENCE:3
DTSTAMP:20260421T085742Z
URL:https://business.thomasvillechamber.com/events/details/hiring-event-shamrock-and-roll-into-your-career-1690
END:VEVENT

END:VCALENDAR
