BEGIN:VCALENDAR
VERSION:2.0
PRODID:-//ChamberMaster//Event Calendar 2.0//EN
METHOD:PUBLISH
X-PUBLISHED-TTL:P3D
REFRESH-INTERVAL:P3D
CALSCALE:GREGORIAN
BEGIN:VEVENT
DTSTART:20240222T163000Z
DTEND:20240222T183000Z
X-MICROSOFT-CDO-ALLDAYEVENT:FALSE
SUMMARY:How to Use Storytelling to Jumpstart your Marketing
DESCRIPTION:During this FREE Lunch-N-Learn Seminar\, you will learn how to put the power of great storytelling to work growing your business. The free seminar will be taught by a marketing consultant with more than 50 years of experience and the author of hundreds of plays\, novels\, and short stories.
X-ALT-DESC;FMTTYPE=text/html:During this FREE Lunch-N-Learn Seminar\, you will learn how to put the power of great storytelling to work growing your business. The free seminar will be taught by a marketing consultant with more than 50 years of experience and the author of hundreds of plays\, novels\, and short stories.
LOCATION:Chamber of Commerce
UID:e.3211.1689
SEQUENCE:3
DTSTAMP:20260421T103350Z
URL:https://business.thomasvillechamber.com/events/details/how-to-use-storytelling-to-jumpstart-your-marketing-1689
END:VEVENT

END:VCALENDAR
