BEGIN:VCALENDAR
VERSION:2.0
PRODID:-//ChamberMaster//Event Calendar 2.0//EN
METHOD:PUBLISH
X-PUBLISHED-TTL:P3D
REFRESH-INTERVAL:P3D
CALSCALE:GREGORIAN
BEGIN:VEVENT
DTSTART;VALUE=DATE:20220718
DTEND;VALUE=DATE:20220723
TRANSP:TRANSPARENT
X-MICROSOFT-CDO-ALLDAYEVENT:TRUE
SUMMARY:iLead Youth Leadership 2022
DESCRIPTION:2022 iLead Youth Leadership
X-ALT-DESC;FMTTYPE=text/html:2022 iLead Youth Leadership&nbsp\;
LOCATION:Thomasville-Thomas County Chamber of Commerce 401 South Broad Street Thomasville\, GA 31792
UID:e.3211.1011
SEQUENCE:3
DTSTAMP:20260422T220350Z
URL:https://business.thomasvillechamber.com/events/details/ilead-youth-leadership-2022-1011
END:VEVENT

END:VCALENDAR
