BEGIN:VCALENDAR
VERSION:2.0
PRODID:-//ChamberMaster//Event Calendar 2.0//EN
METHOD:PUBLISH
X-PUBLISHED-TTL:P3D
REFRESH-INTERVAL:P3D
CALSCALE:GREGORIAN
BEGIN:VEVENT
DTSTART:20220222T180000Z
DTEND:20220222T190000Z
X-MICROSOFT-CDO-ALLDAYEVENT:FALSE
SUMMARY:Imagine: Starting a Business
DESCRIPTION:Are you considering a business idea and don't know where to begin? This is the class for you! This class will cover important tools and resources a potential new business owner needs to establish a solid foundation during its early formative years. This class will equip you to be able to ask all the right questions as you are planning and forming your new business.\n\n\n\nCourse Outline \n\n	Getting Started\n	Is your Business Idea Feasible?\n	Financing Your Business\n	Building Your Team\n	Operating Your Business Legally Learner Outcomes\n	Detailed understanding of how to determine the feasibility of your business idea or framework using market research and competitive analysis\n	Basic knowledge of how to estimate start-up expenses for your business and overview of options for start-up financing\, and requirements to pursue financing options\n	Overview of important individuals to include on your team when making plans and executing business formation
X-ALT-DESC;FMTTYPE=text/html:Are you considering a business idea and don&rsquo\;t know where to begin? This is the class for you! This class will cover important tools and resources a potential new business owner needs to establish a solid foundation during its early formative years. This class will equip you to be able to ask all the right questions as you are planning and forming your new business.<br />\n<br />\n<u><em><strong>Course Outline&nbsp\;</strong></em></u>\n<ul>\n	<li>Getting Started</li>\n	<li>Is your Business Idea Feasible?</li>\n	<li>Financing Your Business</li>\n	<li>Building Your Team</li>\n	<li>Operating Your Business Legally Learner Outcomes</li>\n	<li>Detailed understanding of how to determine the feasibility of your business idea or framework using market research and competitive analysis</li>\n	<li>Basic knowledge of how to estimate start-up expenses for your business and overview of options for start-up financing\, and requirements to pursue financing options</li>\n	<li>Overview of important individuals to include on your team when making plans and executing business formation</li>\n</ul>\n
LOCATION:401 S. Broad St. Thomasville\, GA
UID:e.3211.952
SEQUENCE:3
DTSTAMP:20260423T053226Z
URL:https://business.thomasvillechamber.com/events/details/imagine-starting-a-business-05-11-2022-952
END:VEVENT

END:VCALENDAR
