BEGIN:VCALENDAR
VERSION:2.0
PRODID:-//ChamberMaster//Event Calendar 2.0//EN
METHOD:PUBLISH
X-PUBLISHED-TTL:P3D
REFRESH-INTERVAL:P3D
CALSCALE:GREGORIAN
BEGIN:VEVENT
DTSTART:20220913T170000Z
DTEND:20220913T180000Z
X-MICROSOFT-CDO-ALLDAYEVENT:FALSE
SUMMARY:Imagine: Starting a Business
DESCRIPTION:Are you considering a business idea and not sure where to begin? This is the class for you! This class will cover important tools and resources a potential new business owner needs to establish a solid foundation during its early formative years. This class will equip you to be able to ask all the right questions as you are planning and forming your new business.\n\n\n\nCourse Outline\n\n\n\n  Detailed understanding of how to determine the feasibility of your business idea or framework using market research and competitive analysis\n\n\n\n  Basic knowledge of how to estimate start-up expenses for your business and overview of options for start-up financing\, and requirements to pursue financing options\n\n\n\n  Overview of important individuals to include on your team when making plans and executing business formation
X-ALT-DESC;FMTTYPE=text/html:<span style="color: rgb(68\, 68\, 68)\; font-family: Arial\, Helvetica\, sans-serif\; font-size: 16px\;">Are you considering a business idea and not sure where to begin? This is the class for you! This class will cover important tools and resources a potential new business owner needs to establish a solid foundation during its early formative years. This class will equip you to be able to ask all the right questions as you are planning and forming your new business.</span><br style="color: rgb(68\, 68\, 68)\; font-family: Arial\, Helvetica\, sans-serif\; font-size: 16px\;" />\n<br style="color: rgb(68\, 68\, 68)\; font-family: Arial\, Helvetica\, sans-serif\; font-size: 16px\;" />\n<u><strong style="color: rgb(68\, 68\, 68)\; font-family: Arial\, Helvetica\, sans-serif\; font-size: 16px\;">Course Outline</strong></u><br />\n<br style="color: rgb(68\, 68\, 68)\; font-family: Arial\, Helvetica\, sans-serif\; font-size: 16px\;" />\n<span style="color: rgb(68\, 68\, 68)\; font-family: Arial\, Helvetica\, sans-serif\; font-size: 16px\;">&bull\; Detailed understanding of how to determine the feasibility of your business idea or framework using market research and competitive analysis</span><br />\n<br style="color: rgb(68\, 68\, 68)\; font-family: Arial\, Helvetica\, sans-serif\; font-size: 16px\;" />\n<span style="color: rgb(68\, 68\, 68)\; font-family: Arial\, Helvetica\, sans-serif\; font-size: 16px\;">&bull\; Basic knowledge of how to estimate start-up expenses for your business and overview of options for start-up financing\, and requirements to pursue financing options</span><br />\n<br style="color: rgb(68\, 68\, 68)\; font-family: Arial\, Helvetica\, sans-serif\; font-size: 16px\;" />\n<span style="color: rgb(68\, 68\, 68)\; font-family: Arial\, Helvetica\, sans-serif\; font-size: 16px\;">&bull\; Overview of important individuals to include on your team when making plans and executing business formation</span>
LOCATION:401 S. Broad St. Thomasville\, GA
UID:e.3211.953
SEQUENCE:3
DTSTAMP:20260422T154256Z
URL:https://business.thomasvillechamber.com/events/details/imagine-starting-a-business-08-17-2022-953
END:VEVENT

END:VCALENDAR
