BEGIN:VCALENDAR
VERSION:2.0
PRODID:-//ChamberMaster//Event Calendar 2.0//EN
METHOD:PUBLISH
X-PUBLISHED-TTL:P3D
REFRESH-INTERVAL:P3D
CALSCALE:GREGORIAN
BEGIN:VEVENT
DTSTART:20211019T210000Z
DTEND:20211019T230000Z
X-MICROSOFT-CDO-ALLDAYEVENT:FALSE
SUMMARY:Industry Roundtable
DESCRIPTION:Imagine Thomasville\, City of Thomasville\, and Southern Regional Technical College have partnered together to begin a series of Quarterly Industry Roundtable discussions. We have invited industries in the Thomasville-Thomas County area to listen to their training and workforce concerns in hopes to help put boots to the ground. \n\n\n\n All attendees MUST RSVP to participate. This months host is CHECK-MATE INDUSTRIES! Find out more here.
X-ALT-DESC;FMTTYPE=text/html:<span style="color: rgb(88\, 104\, 138)\; font-family: arial\; font-size: 16px\; background-color: rgb(243\, 243\, 243)\;">Imagine Thomasville\, City of Thomasville\, and Southern Regional Technical College have partnered together to begin a series of Quarterly Industry Roundtable discussions. We have invited industries in the Thomasville-Thomas County area to listen to their training and workforce concerns in hopes to help put boots to the ground.&nbsp\;</span><br style="box-sizing: content-box\; inset: auto\; clear: none\; color: rgb(88\, 104\, 138)\; content: normal\; direction: inherit\; display: inline\; empty-cells: show\; float: none\; font-variant-numeric: inherit\; font-variant-east-asian: inherit\; font-stretch: inherit\; font-size: 16px\; font-family: arial\; line-height: inherit\; margin: 0px\; max-height: none\; max-width: none\; min-height: initial\; min-width: initial\; opacity: 1\; outline-offset: 0px\; overflow: visible\; padding: 0px\; position: static\; resize: none\; table-layout: auto\; text-overflow: clip\; vertical-align: baseline\; visibility: inherit\; word-break: inherit\; overflow-wrap: inherit\; z-index: auto\; background: none rgb(243\, 243\, 243)\; border-width: initial\; border-style: none\; border-color: initial\; border-collapse: separate\; border-image: none 100% 1 0 / 1 / 0 stretch\; border-radius: 0px\; height: auto\; width: auto\;" />\n<br style="box-sizing: content-box\; inset: auto\; clear: none\; color: rgb(88\, 104\, 138)\; content: normal\; direction: inherit\; display: inline\; empty-cells: show\; float: none\; font-variant-numeric: inherit\; font-variant-east-asian: inherit\; font-stretch: inherit\; font-size: 16px\; font-family: arial\; line-height: inherit\; margin: 0px\; max-height: none\; max-width: none\; min-height: initial\; min-width: initial\; opacity: 1\; outline-offset: 0px\; overflow: visible\; padding: 0px\; position: static\; resize: none\; table-layout: auto\; text-overflow: clip\; vertical-align: baseline\; visibility: inherit\; word-break: inherit\; overflow-wrap: inherit\; z-index: auto\; background: none rgb(243\, 243\, 243)\; border-width: initial\; border-style: none\; border-color: initial\; border-collapse: separate\; border-image: none 100% 1 0 / 1 / 0 stretch\; border-radius: 0px\; height: auto\; width: auto\;" />\n<span style="color: rgb(88\, 104\, 138)\; font-family: arial\; font-size: 16px\; background-color: rgb(243\, 243\, 243)\;">&nbsp\;</span><span style="box-sizing: content-box\; font-weight: bolder\; inset: auto\; clear: none\; color: rgb(88\, 104\, 138)\; content: normal\; direction: inherit\; empty-cells: show\; font-variant-numeric: inherit\; font-variant-east-asian: inherit\; font-stretch: inherit\; font-size: 16px\; font-family: arial\; line-height: inherit\; margin: 0px\; max-height: none\; max-width: none\; min-height: initial\; min-width: initial\; opacity: 1\; outline-offset: 0px\; overflow: visible\; padding: 0px\; position: static\; resize: none\; table-layout: auto\; text-overflow: clip\; vertical-align: baseline\; visibility: inherit\; word-break: inherit\; overflow-wrap: inherit\; z-index: auto\; background: none rgb(243\, 243\, 243)\; border-width: initial\; border-style: none\; border-color: initial\; border-collapse: separate\; border-image: none 100% 1 0 / 1 / 0 stretch\; border-radius: 0px\; height: auto\; width: auto\; box-shadow: none\;">All attendees MUST RSVP to participate. This months host is CHECK-MATE INDUSTRIES! Find out more <a href="http://www.checkmateindustries.com/">here</a>.</span><br />\n&nbsp\;
LOCATION:1861 Distillery\, 312 Smith Avenue Thomasville\, GA 31792
UID:e.3211.960
SEQUENCE:3
DTSTAMP:20260423T124559Z
URL:https://business.thomasvillechamber.com/events/details/industry-roundtable-960
END:VEVENT

END:VCALENDAR
