BEGIN:VCALENDAR
VERSION:2.0
PRODID:-//ChamberMaster//Event Calendar 2.0//EN
METHOD:PUBLISH
X-PUBLISHED-TTL:P3D
REFRESH-INTERVAL:P3D
CALSCALE:GREGORIAN
BEGIN:VEVENT
DTSTART:20220208T170000Z
DTEND:20220208T180000Z
X-MICROSOFT-CDO-ALLDAYEVENT:FALSE
SUMMARY:Industry Roundtable
DESCRIPTION:Industry Roundtable is a quarterly meeting of local industries to partner together on workforce and training initiatives.\n\n\n\nThis quarters meeting will be held Tuesday\, February 8th at 12:00 PM at the Chamber of Commerce located at 401 S. Broad St. Thomasville\, GA 31792.\n\n\n\nThe Payroll Development Authority will be sponsoring lunch while we hear from guest speaker\, Tina Herring with the Georgia Economic Development Authority.\n\n \n\nPlease RSVP here by January 28th\, 2022 at close of business. If you do not remember your login\, please register as a guest.\n\n \n\nWe hope to see you there!
X-ALT-DESC;FMTTYPE=text/html:<span style="color:#404040\;"><span style="font-family:century gothic\,sans-serif\;"><span style="font-size:12.0pt\;">Industry Roundtable is a quarterly meeting of local industries to partner together on workforce and training initiatives.<br />\n<br />\nThis quarters&nbsp\;meeting will be held Tuesday\, February 8<sup>th</sup> at 12:00 PM at the Chamber of Commerce located at 401 S. Broad St. Thomasville\, GA 31792.<br />\n<br />\nThe Payroll Development Authority will be sponsoring lunch while we hear from guest speaker\, Tina Herring with the Georgia Economic Development Authority.</span></span></span><br />\n&nbsp\;<br />\n<span style="color:#404040\;"><span style="font-family:century gothic\,sans-serif\;"><span style="font-size:12.0pt\;">Please RSVP here by January 28th\, 2022 at close of business. If you do not remember your login\, please register as a guest.</span></span></span><br />\n&nbsp\;<br />\n<span style="color:#404040\;"><span style="font-family:century gothic\,sans-serif\;"><span style="font-size:12.0pt\;">We hope to see you there! </span></span></span>
LOCATION:401 S. Broad St. Thomasville\, GA 31792
UID:e.3211.979
SEQUENCE:3
DTSTAMP:20260423T052501Z
URL:https://business.thomasvillechamber.com/events/details/industry-roundtable-979
END:VEVENT

END:VCALENDAR
