BEGIN:VCALENDAR
VERSION:2.0
PRODID:-//ChamberMaster//Event Calendar 2.0//EN
METHOD:PUBLISH
X-PUBLISHED-TTL:P3D
REFRESH-INTERVAL:P3D
CALSCALE:GREGORIAN
BEGIN:VEVENT
DTSTART:20210818T033000Z
DTEND:20210817T170000Z
X-MICROSOFT-CDO-ALLDAYEVENT:FALSE
SUMMARY:Industry Roundtable Discussion
DESCRIPTION:Imagine Thomasville and Southern Regional Technical College have partnered together to begin a series of Quarterly Industry Roundtable discussions. We have invited industries in the Thomasville-Thomas County area to listen to their training and workforce concerns in hopes to help put boots to the ground. \n\n\n\nThis event will be held at the Thomasville-Thomas County Chamber of Commerce August 17th\, 2021 from 12-1 PM. All attendees MUST RSVP to participate.\n\n\n\n\n\nOur host this month is Atkore:\n\n \nAtkore is an industry leader with strong market positions and widely-recognized brands. We take pride in offering a broad portfolio of products for electrical raceway and mechanical products and solutions.\n\n \n\nOur Electrical Raceway offering deploys\, isolates and protects a structure's electrical circuitry from the original power source to the final outlet. Our Mechanical Products and Solutions offering frame\, support and secure component parts in a broad range of structures\, equipment and system in electrical\, industrial and construction applications.\n\n \n\nOur employees are committed to serving our valued customers\, global electrical distributors\, independent electrical distributors\, home improvement retailers\, industrial distributors\, HVAC/plumbing distributors\, datacom distributors\, original equipment manufacturers and general contractors. In total\, we serve more than 50 end-markets including commercial construction\, industrial\, power generation\, agriculture\, and federal\, state and local governments.\n\n \n\nAs we look to the future\, Atkore remains focused on its mission: To be the customer's first choice for electrical raceway and mechanical products and solutions by providing unmatched quality\, delivery and value based on sustainable excellence in strategy\, people and processes.
X-ALT-DESC;FMTTYPE=text/html:<span style="font-size:14px\;"><span style="font-family:arial\;"><span style="font-size:16px\;">Imagine Thomasville and Southern Regional Technical College have partnered together to begin a series of Quarterly Industry Roundtable discussions. We have invited industries in the Thomasville-Thomas County area to listen to their training and workforce concerns in hopes to help put boots to the ground.&nbsp\;<br />\n<br />\nThis event will be held at the Thomasville-Thomas County Chamber of Commerce August 17th\, 2021 from 12-1 PM. <strong>All attendees MUST RSVP to participate.</strong></span><br />\n<br />\n<br />\n<span style="color:#FFFFFF\;">Our host this month is <strong>Atkore:</strong></span></span></span><br />\n&nbsp\;\n<div style="color: rgb(51\, 51\, 51)\; font-family: sans-serif\, Arial\, Verdana\, &quot\;Trebuchet MS&quot\;\; font-size: 13px\;"><span style="color:#FFFFFF\;"><span style="font-size:14px\;"><span style="font-family:arial\;">Atkore is an industry leader with strong market positions and widely-recognized brands. We take pride in offering a broad portfolio of products for electrical raceway and mechanical products and solutions.</span></span></span></div>\n\n<div style="color: rgb(51\, 51\, 51)\; font-family: sans-serif\, Arial\, Verdana\, &quot\;Trebuchet MS&quot\;\; font-size: 13px\;">&nbsp\;</div>\n\n<div style="color: rgb(51\, 51\, 51)\; font-family: sans-serif\, Arial\, Verdana\, &quot\;Trebuchet MS&quot\;\; font-size: 13px\;"><span style="color:#FFFFFF\;"><span style="font-size:14px\;"><span style="font-family:arial\;">Our Electrical Raceway offering deploys\, isolates and protects a structure&rsquo\;s electrical circuitry from the original power source to the final outlet. Our Mechanical Products and Solutions offering frame\, support and secure component parts in a broad range of structures\, equipment and system in electrical\, industrial and construction applications.</span></span></span></div>\n\n<div style="color: rgb(51\, 51\, 51)\; font-family: sans-serif\, Arial\, Verdana\, &quot\;Trebuchet MS&quot\;\; font-size: 13px\;">&nbsp\;</div>\n\n<div style="color: rgb(51\, 51\, 51)\; font-family: sans-serif\, Arial\, Verdana\, &quot\;Trebuchet MS&quot\;\; font-size: 13px\;"><span style="color:#FFFFFF\;"><span style="font-size:14px\;"><span style="font-family:arial\;">Our employees are committed to serving our valued customers\, global electrical distributors\, independent electrical distributors\, home improvement retailers\, industrial distributors\, HVAC/plumbing distributors\, datacom distributors\, original equipment manufacturers and general contractors. In total\, we serve more than 50 end-markets including commercial construction\, industrial\, power generation\, agriculture\, and federal\, state and local governments.</span></span></span></div>\n\n<div style="color: rgb(51\, 51\, 51)\; font-family: sans-serif\, Arial\, Verdana\, &quot\;Trebuchet MS&quot\;\; font-size: 13px\;">&nbsp\;</div>\n\n<div style="color: rgb(51\, 51\, 51)\; font-family: sans-serif\, Arial\, Verdana\, &quot\;Trebuchet MS&quot\;\; font-size: 13px\;"><span style="color:#FFFFFF\;"><span style="font-size:14px\;"><span style="font-family:arial\;">As we look to the future\, Atkore remains focused on its mission: To be the customer&rsquo\;s first choice for electrical raceway and mechanical products and solutions by providing unmatched quality\, delivery and value based on sustainable excellence in strategy\, people and processes.</span></span></span></div>\n<br />\n&nbsp\;
LOCATION:
UID:e.3211.935
SEQUENCE:3
DTSTAMP:20260423T160652Z
URL:https://business.thomasvillechamber.com/events/details/industry-roundtable-discussion-935
END:VEVENT

END:VCALENDAR
