BEGIN:VCALENDAR
VERSION:2.0
PRODID:-//ChamberMaster//Event Calendar 2.0//EN
METHOD:PUBLISH
X-PUBLISHED-TTL:P3D
REFRESH-INTERVAL:P3D
CALSCALE:GREGORIAN
BEGIN:VEVENT
DTSTART:20230204T180000Z
DTEND:20230204T200000Z
X-MICROSOFT-CDO-ALLDAYEVENT:FALSE
SUMMARY:Lee Felicia Dilbert Book Signing
DESCRIPTION:Come celebrate local best-selling author\, Lee Felicia Dilbert at the Bookshelf bookstore book-signing this Saturday!
X-ALT-DESC;FMTTYPE=text/html:Come celebrate local best-selling author\, Lee Felicia Dilbert at the Bookshelf bookstore book-signing this Saturday!
LOCATION:126 S. Broad St. Thomasville\, GA
UID:e.3211.1665
SEQUENCE:3
DTSTAMP:20260422T082153Z
URL:https://business.thomasvillechamber.com/events/details/lee-felicia-dilbert-book-signing-1665
END:VEVENT

END:VCALENDAR
