BEGIN:VCALENDAR
VERSION:2.0
PRODID:-//ChamberMaster//Event Calendar 2.0//EN
METHOD:PUBLISH
X-PUBLISHED-TTL:P3D
REFRESH-INTERVAL:P3D
CALSCALE:GREGORIAN
BEGIN:VEVENT
DTSTART:20221001T110000Z
DTEND:20221001T130000Z
X-MICROSOFT-CDO-ALLDAYEVENT:FALSE
SUMMARY:Live Better Pink Run
DESCRIPTION:Live Better\, the Archbold-led community health initiative is hosting the 6th annual Live Better 5K Pink Run to kick off Breast Cancer Awareness Month in October. The Pink Run helps promote the link between obesity and cancer\, as well as the early detection of breast cancer and overall healthy living. \n\n\n\nWe are only accepting online registration for the event. Registration for the run will close Thursday\, September 15\, and there will be no day of registration. Runners and walkers welcomed. \n\n\n\nAll participants who complete the race will receive a shirt. Awards will be given out to the top finishers in each age category and the teams with the most members and the most creative name. \n\n\n\nFor more information and to register\, please visit archold.org/pinkrun
X-ALT-DESC;FMTTYPE=text/html:Live Better\, the Archbold-led community health initiative is hosting the 6th annual Live Better 5K Pink Run to kick off Breast Cancer Awareness Month in October. The Pink Run helps promote the link between obesity and cancer\, as well as the early detection of breast cancer and overall healthy living.&nbsp\;<br />\n<br />\nWe are only accepting online registration for the event. Registration for the run will close Thursday\, September 15\, and there will be no day of registration. Runners and walkers welcomed.&nbsp\;<br />\n<br />\nAll participants who complete the race will receive a shirt. Awards will be given out to the top finishers in each age category and the teams with the most members and the most creative name.&nbsp\;<br />\n<br />\nFor more information and to register\, please visit archold.org/pinkrun
LOCATION:
UID:e.3211.1026
SEQUENCE:3
DTSTAMP:20260422T134832Z
URL:https://business.thomasvillechamber.com/events/details/live-better-pink-run-1026
END:VEVENT

END:VCALENDAR
