BEGIN:VCALENDAR
VERSION:2.0
PRODID:-//ChamberMaster//Event Calendar 2.0//EN
METHOD:PUBLISH
X-PUBLISHED-TTL:P3D
REFRESH-INTERVAL:P3D
CALSCALE:GREGORIAN
BEGIN:VEVENT
DTSTART:20211021T220000Z
DTEND:20211022T010000Z
X-MICROSOFT-CDO-ALLDAYEVENT:FALSE
SUMMARY:Lives Without Limits
DESCRIPTION:Doors open at 6 PM \n\nDinner at 6 PM - 7:30 PM\n\nSilent Auction\n\nLive Auction\n\nGames & Raffles
X-ALT-DESC;FMTTYPE=text/html:Doors open at 6 PM&nbsp\;<br />\nDinner at 6 PM - 7:30 PM<br />\nSilent Auction<br />\nLive Auction<br />\nGames &amp\; Raffles
LOCATION:
UID:e.3211.961
SEQUENCE:3
DTSTAMP:20260423T140708Z
URL:https://business.thomasvillechamber.com/events/details/lives-without-limits-961
END:VEVENT

END:VCALENDAR
