BEGIN:VCALENDAR
VERSION:2.0
PRODID:-//ChamberMaster//Event Calendar 2.0//EN
METHOD:PUBLISH
X-PUBLISHED-TTL:P3D
REFRESH-INTERVAL:P3D
CALSCALE:GREGORIAN
BEGIN:VEVENT
DTSTART:20200314T130000Z
DTEND:20200314T190000Z
X-MICROSOFT-CDO-ALLDAYEVENT:FALSE
SUMMARY:Metcalfe Annual Spring Market
DESCRIPTION:Enjoy a day of live music\, great food\, and lots of shopping!
X-ALT-DESC;FMTTYPE=text/html:Enjoy a day of live music\, great food\, and lots of shopping!
LOCATION:Metcalfe Community Park
UID:e.3211.843
SEQUENCE:3
DTSTAMP:20260424T214426Z
URL:https://business.thomasvillechamber.com/events/details/metcalfe-annual-spring-market-843
END:VEVENT

END:VCALENDAR
