BEGIN:VCALENDAR
VERSION:2.0
PRODID:-//ChamberMaster//Event Calendar 2.0//EN
METHOD:PUBLISH
X-PUBLISHED-TTL:P3D
REFRESH-INTERVAL:P3D
CALSCALE:GREGORIAN
BEGIN:VEVENT
DTSTART:20210213T150000Z
DTEND:20210213T170000Z
X-MICROSOFT-CDO-ALLDAYEVENT:FALSE
SUMMARY:New Hire Solutions Hiring Event
DESCRIPTION:*** Attendees will be entered into a drawing for a BP gift card ***\n\n"If you think you have what it takes to succeed under pressure when performance really counts\, then WE WANT TO TALK TO YOU!" - Steel Corp Team\n\nSteel Corp\, specializes in manufacturing\, full-service construction\, warehousing\, and logistics and knows "how to get the job done!" The company has an experienced and dedicated team committed to quality. Steel Corp operates out of an 80\,000 square foot steel manufacturing facility that is staffed with certified welders and produces PEMBs (metal buildings) as well as custom fabricated needs for any steel-related base work needed.\n\nSteel Corp has an experienced and dedicated team committed to quality. Its knowledgeable management team places real emphasis on performance and accomplishments\, "Degrees and credentials are great\, but they don't mean much if they're not backed-up with a track-record of real world performance."\n\n-HIRING EVENT DETAILS-\n\n*Steel Corp representatives will be ONSITE to personally meet and interview qualified candidates!\n\n*Facemasks MUST be worn at all times as suggested by the CDC.\n\n*Please come dressed for an interview.\n\n*Online applications must be completed through New Hire Solutions website by or at time of the event by doing any of the following:\n\n*Visit and apply directly with this link:\n\nhttp://newhiresolutions.com/apply\n\n-and/or-\n\nScan QR code in the Event Discussion with a smart\, mobile device.\n\n-and/or-\n\nNHS recruiters will have computer onsite during the event and can assist those who need more accommodations.\n\n**Open Positions at Steel Corp**\n\n-General Laborers\n\n-Forklift Operators\n\n-Customer Service\n\n-Sales\n\n-Welders\n\n-Assistant Plant Managers\n\n-Trim Fabricators\n\nPay Range: $10/hr+ based on experience and specific positions needs\n\nIN ORDER TO BE CONSIDERED FOR STEEL CORP\, ALL BELOW QUALIFICATIONS WILL BE REQUIRED/NEED TO BE PASSED:\n\n-Must complete online application through New Hire Solutions\n\n-Must be 18 years of age\n\n-Background check will be required\n\n-Must be legally authorized to work in the United States\n\n-Must have reliable transportation\n\nNew Hire Solutions is a certified Drug & Alcohol Free Workplace and proud to be an Equal Opportunity Employer!\n\nFor more information:\n\n229.227.9003\n\nresume@newhiresolutions.net
X-ALT-DESC;FMTTYPE=text/html:<div class="kvgmc6g5 cxmmr5t8 oygrvhab hcukyx3x c1et5uql" style="overflow-wrap: break-word\; margin: 0px\; font-family: &quot\;Segoe UI Historic&quot\;\, &quot\;Segoe UI&quot\;\, Helvetica\, Arial\, sans-serif\; color: rgb(5\, 5\, 5)\; font-size: 15px\;">*** Attendees will be entered into a drawing for a BP gift card ***</div>\n\n<div class="o9v6fnle cxmmr5t8 oygrvhab hcukyx3x c1et5uql" style="overflow-wrap: break-word\; margin: 0.5em 0px 0px\; font-family: &quot\;Segoe UI Historic&quot\;\, &quot\;Segoe UI&quot\;\, Helvetica\, Arial\, sans-serif\; color: rgb(5\, 5\, 5)\; font-size: 15px\;">&ldquo\;If you think you have what it takes to succeed under pressure when performance really counts\, then WE WANT TO TALK TO YOU!&quot\; - Steel Corp Team</div>\n\n<div class="o9v6fnle cxmmr5t8 oygrvhab hcukyx3x c1et5uql" style="overflow-wrap: break-word\; margin: 0.5em 0px 0px\; font-family: &quot\;Segoe UI Historic&quot\;\, &quot\;Segoe UI&quot\;\, Helvetica\, Arial\, sans-serif\; color: rgb(5\, 5\, 5)\; font-size: 15px\;">Steel Corp\, specializes in manufacturing\, full-service construction\, warehousing\, and logistics and knows &quot\;how to get the job done!&quot\; The company has an experienced and dedicated team committed to quality. Steel Corp operates out of an 80\,000 square foot steel manufacturing facility that is staffed with certified welders and produces PEMBs (metal buildings) as well as custom fabricated needs for any steel-related base work needed.</div>\n\n<div class="o9v6fnle cxmmr5t8 oygrvhab hcukyx3x c1et5uql" style="overflow-wrap: break-word\; margin: 0.5em 0px 0px\; font-family: &quot\;Segoe UI Historic&quot\;\, &quot\;Segoe UI&quot\;\, Helvetica\, Arial\, sans-serif\; color: rgb(5\, 5\, 5)\; font-size: 15px\;">Steel Corp has an experienced and dedicated team committed to quality. Its knowledgeable management team places real emphasis on performance and accomplishments\, &quot\;Degrees and credentials are great\, but they don&#39\;t mean much if they&#39\;re not backed-up with a track-record of real world performance.&quot\;</div>\n\n<div class="o9v6fnle cxmmr5t8 oygrvhab hcukyx3x c1et5uql" style="overflow-wrap: break-word\; margin: 0.5em 0px 0px\; font-family: &quot\;Segoe UI Historic&quot\;\, &quot\;Segoe UI&quot\;\, Helvetica\, Arial\, sans-serif\; color: rgb(5\, 5\, 5)\; font-size: 15px\;">-HIRING EVENT DETAILS-</div>\n\n<div class="o9v6fnle cxmmr5t8 oygrvhab hcukyx3x c1et5uql" style="overflow-wrap: break-word\; margin: 0.5em 0px 0px\; font-family: &quot\;Segoe UI Historic&quot\;\, &quot\;Segoe UI&quot\;\, Helvetica\, Arial\, sans-serif\; color: rgb(5\, 5\, 5)\; font-size: 15px\;">*Steel Corp representatives will be ONSITE to personally meet and interview qualified candidates!</div>\n\n<div class="o9v6fnle cxmmr5t8 oygrvhab hcukyx3x c1et5uql" style="overflow-wrap: break-word\; margin: 0.5em 0px 0px\; font-family: &quot\;Segoe UI Historic&quot\;\, &quot\;Segoe UI&quot\;\, Helvetica\, Arial\, sans-serif\; color: rgb(5\, 5\, 5)\; font-size: 15px\;">*Facemasks MUST be worn at all times as suggested by the CDC.</div>\n\n<div class="o9v6fnle cxmmr5t8 oygrvhab hcukyx3x c1et5uql" style="overflow-wrap: break-word\; margin: 0.5em 0px 0px\; font-family: &quot\;Segoe UI Historic&quot\;\, &quot\;Segoe UI&quot\;\, Helvetica\, Arial\, sans-serif\; color: rgb(5\, 5\, 5)\; font-size: 15px\;">*Please come dressed for an interview.</div>\n\n<div class="o9v6fnle cxmmr5t8 oygrvhab hcukyx3x c1et5uql" style="overflow-wrap: break-word\; margin: 0.5em 0px 0px\; font-family: &quot\;Segoe UI Historic&quot\;\, &quot\;Segoe UI&quot\;\, Helvetica\, Arial\, sans-serif\; color: rgb(5\, 5\, 5)\; font-size: 15px\;">*Online applications must be completed through New Hire Solutions website by or at time of the event by doing any of the following:</div>\n\n<div class="o9v6fnle cxmmr5t8 oygrvhab hcukyx3x c1et5uql" style="overflow-wrap: break-word\; margin: 0.5em 0px 0px\; font-family: &quot\;Segoe UI Historic&quot\;\, &quot\;Segoe UI&quot\;\, Helvetica\, Arial\, sans-serif\; color: rgb(5\, 5\, 5)\; font-size: 15px\;">*Visit and apply directly with this link:<br />\n<a class="oajrlxb2 g5ia77u1 qu0x051f esr5mh6w e9989ue4 r7d6kgcz rq0escxv nhd2j8a9 nc684nl6 p7hjln8o kvgmc6g5 cxmmr5t8 oygrvhab hcukyx3x jb3vyjys rz4wbd8a qt6c0cv9 a8nywdso i1ao9s8h esuyzwwr f1sip0of lzcic4wl py34i1dx gpro0wi8" href="https://l.facebook.com/l.php?u=http%3A%2F%2Fnewhiresolutions.com%2Fapply%3Ffbclid%3DIwAR3RsNZ3mLPYvaMR17hZcEQQT7TFPI61MLpUjVknp5I3fmuhNXBikTRzEXM&amp\;h=AT1L-FCgvQ6MGzrjJXz2u5apb1zmGTOpjmOeG6SkgGw7T4ALDEzXOBC3L1h-2tcydHIvQ_w1vzpluwGPxo26hJ5VMqKEtyfgQJxx3tJ8tFeJqnLGXt9rDKvVB_Q0QD40cA&amp\;__tn__=q&amp\;c[0]=AT36DCJUR1_kjPKlka5WG882-jN_fLzDX0MuZx_LMKrZS1wuxMzoO6SrRpCdqjFK8L-3qFArw6MEBGFb5yKuItH707RTjDBYiiwQtUOaa8hpch-8mreBNriNTX7U8Ld38-tXlG1ATSYr8a2ZhuwFD5qW" rel="nofollow noopener" role="link" style="color: var(--blue-link)\; cursor: pointer\; text-decoration-line: none\; outline: none\; list-style: none\; border-width: 0px\; border-style: initial\; border-color: initial\; padding: 0px\; margin: 0px\; touch-action: manipulation\; background-color: transparent\; text-align: inherit\; display: inline\; -webkit-tap-highlight-color: transparent\; box-sizing: border-box\; font-family: inherit\;" tabindex="0" target="_blank">http://newhiresolutions.com/apply</a><br />\n-and/or-<br />\nScan QR code in the Event Discussion with a smart\, mobile device.<br />\n-and/or-<br />\nNHS recruiters will have computer onsite during the event and can assist those who need more accommodations.</div>\n\n<div class="o9v6fnle cxmmr5t8 oygrvhab hcukyx3x c1et5uql" style="overflow-wrap: break-word\; margin: 0.5em 0px 0px\; font-family: &quot\;Segoe UI Historic&quot\;\, &quot\;Segoe UI&quot\;\, Helvetica\, Arial\, sans-serif\; color: rgb(5\, 5\, 5)\; font-size: 15px\;">**Open Positions at Steel Corp**<br />\n-General Laborers<br />\n-Forklift Operators<br />\n-Customer Service<br />\n-Sales<br />\n-Welders<br />\n-Assistant Plant Managers<br />\n-Trim Fabricators</div>\n\n<div class="o9v6fnle cxmmr5t8 oygrvhab hcukyx3x c1et5uql" style="overflow-wrap: break-word\; margin: 0.5em 0px 0px\; font-family: &quot\;Segoe UI Historic&quot\;\, &quot\;Segoe UI&quot\;\, Helvetica\, Arial\, sans-serif\; color: rgb(5\, 5\, 5)\; font-size: 15px\;">Pay Range: $10/hr+ based on experience and specific positions needs</div>\n\n<div class="o9v6fnle cxmmr5t8 oygrvhab hcukyx3x c1et5uql" style="overflow-wrap: break-word\; margin: 0.5em 0px 0px\; font-family: &quot\;Segoe UI Historic&quot\;\, &quot\;Segoe UI&quot\;\, Helvetica\, Arial\, sans-serif\; color: rgb(5\, 5\, 5)\; font-size: 15px\;">IN ORDER TO BE CONSIDERED FOR STEEL CORP\, ALL BELOW QUALIFICATIONS WILL BE REQUIRED/NEED TO BE PASSED:<br />\n-Must complete online application through New Hire Solutions<br />\n-Must be 18 years of age<br />\n-Background check will be required<br />\n-Must be legally authorized to work in the United States<br />\n-Must have reliable transportation</div>\n\n<div class="o9v6fnle cxmmr5t8 oygrvhab hcukyx3x c1et5uql" style="overflow-wrap: break-word\; margin: 0.5em 0px 0px\; font-family: &quot\;Segoe UI Historic&quot\;\, &quot\;Segoe UI&quot\;\, Helvetica\, Arial\, sans-serif\; color: rgb(5\, 5\, 5)\; font-size: 15px\;">New Hire Solutions is a certified Drug &amp\; Alcohol Free Workplace and proud to be an Equal Opportunity Employer!</div>\n\n<div class="o9v6fnle cxmmr5t8 oygrvhab hcukyx3x c1et5uql" style="overflow-wrap: break-word\; margin: 0.5em 0px 0px\; font-family: &quot\;Segoe UI Historic&quot\;\, &quot\;Segoe UI&quot\;\, Helvetica\, Arial\, sans-serif\; color: rgb(5\, 5\, 5)\; font-size: 15px\;">For more information:<br />\n229.227.9003<br />\nresume@newhiresolutions.net</div>\n
LOCATION:Steel Corp 1207 Sunset Dr\, Thomasville\, GA 31792-6356\, United States
UID:e.3211.901
SEQUENCE:3
DTSTAMP:20260424T040558Z
URL:https://business.thomasvillechamber.com/events/details/new-hire-solutions-hiring-event-901
END:VEVENT

END:VCALENDAR
