BEGIN:VCALENDAR
VERSION:2.0
PRODID:-//ChamberMaster//Event Calendar 2.0//EN
METHOD:PUBLISH
X-PUBLISHED-TTL:P3D
REFRESH-INTERVAL:P3D
CALSCALE:GREGORIAN
BEGIN:VEVENT
DTSTART:20210626T200000Z
DTEND:20210627T020000Z
X-MICROSOFT-CDO-ALLDAYEVENT:FALSE
SUMMARY:Oakfest 2021
DESCRIPTION:Oakfest is an annual music festival supporting the children at the Treehouse Advocacy Center in Thomasville\, GA.
X-ALT-DESC;FMTTYPE=text/html:Oakfest is an annual music festival supporting the children at the Treehouse Advocacy Center in Thomasville\, GA.&nbsp\;
LOCATION:
UID:e.3211.925
SEQUENCE:3
DTSTAMP:20260423T192657Z
URL:https://business.thomasvillechamber.com/events/details/oakfest-2021-925
END:VEVENT

END:VCALENDAR
