BEGIN:VCALENDAR
VERSION:2.0
PRODID:-//ChamberMaster//Event Calendar 2.0//EN
METHOD:PUBLISH
X-PUBLISHED-TTL:P3D
REFRESH-INTERVAL:P3D
CALSCALE:GREGORIAN
BEGIN:VEVENT
DTSTART:20220319T190000Z
DTEND:20220320T020000Z
X-MICROSOFT-CDO-ALLDAYEVENT:FALSE
SUMMARY:Oakfest
DESCRIPTION:The Treehouse Children's Advocacy Center and the Kiwanis Club of Thomasville invite you to OakFest 2022! Proudly presented by Whitehurst\, Blackburn & Warren   Attorneys at Law.\n\nWe are excited to finally bring our St. Patty's Day music festival back to it's normal schedule. Bands from the southeast will join our headliner on Saturday\, March 19\, 2022\, from 2:00 pm   11:00 pm in beautiful Thomasville for a day of music\, food\, and fun! Beer\, wine\, and local food trucks will be available. We encourage you to bring your own blankets or chairs. Outside drinks or coolers are not allowed.\n\nwww.oakfest.net\n\n*Oakfest is a rain or shine event. All ticket sales are donations that support The Treehouse Children's Advocacy Center and are non-refundable.*
X-ALT-DESC;FMTTYPE=text/html:<div class="kvgmc6g5 cxmmr5t8 oygrvhab hcukyx3x c1et5uql" style="overflow-wrap: break-word\; margin: 0px\; font-family: &quot\;Segoe UI Historic&quot\;\, &quot\;Segoe UI&quot\;\, Helvetica\, Arial\, sans-serif\; color: rgb(5\, 5\, 5)\; font-size: 15px\;">The Treehouse Children&rsquo\;s Advocacy Center and the Kiwanis Club of Thomasville invite you to OakFest 2022! Proudly presented by Whitehurst\, Blackburn &amp\; Warren &ndash\; Attorneys at Law.<br />\nWe are excited to finally bring our St. Patty&#39\;s Day music festival back to it&#39\;s normal schedule. Bands from the southeast will join our headliner on Saturday\, March 19\, 2022\, from 2:00 pm &ndash\; 11:00 pm in beautiful Thomasville for a day of music\, food\, and fun! Beer\, wine\, and local food trucks will be available. We encourage you to bring your own blankets or chairs. Outside drinks or coolers are not allowed.<br />\n<a class="oajrlxb2 g5ia77u1 qu0x051f esr5mh6w e9989ue4 r7d6kgcz rq0escxv nhd2j8a9 nc684nl6 p7hjln8o kvgmc6g5 cxmmr5t8 oygrvhab hcukyx3x jb3vyjys rz4wbd8a qt6c0cv9 a8nywdso i1ao9s8h esuyzwwr f1sip0of lzcic4wl gpro0wi8 py34i1dx" href="https://l.facebook.com/l.php?u=http%3A%2F%2Fwww.oakfest.net%2F%3Ffbclid%3DIwAR02q0lvWAieT9LReqm2jNnZlqxzbbGhW53iHeW8X8dSmztlrYYW6JlnSm0&amp\;h=AT1XQ15OtAEq8B8Vjip3daQh5Sbub8yc3kWXK1yebOETrAnjikuLOhp-37HHU9edkh8m9smqJFPAhr6-aFsIwgwPQSSuX_73Lv_ML2giDddLJ0v-isI9-oekDqQyCwxP3g&amp\;__tn__=q&amp\;c[0]=AT1gQF1hP0Qa96coj02IVE-VvDaKJklDKiPrhx9A-iNFTXwzRrcdClmmzcEW86nSLqtJI-fOyY8dxMYQG1q1VqReopJN9uwy3jVbvrYwrTN13nD0JNRUlg7FNTMXPtyfU95Mjff-rJYaD3Aon8PNzoVZ_PQ1Yrg2uOyLa-JZAlOO0lkg" rel="nofollow noopener" role="link" style="color: var(--blue-link)\; cursor: pointer\; text-decoration-line: none\; outline: none\; list-style: none\; border-width: 0px\; border-style: initial\; border-color: initial\; padding: 0px\; margin: 0px\; touch-action: manipulation\; background-color: transparent\; text-align: inherit\; display: inline\; -webkit-tap-highlight-color: transparent\; box-sizing: border-box\; font-family: inherit\;" tabindex="0" target="_blank">www.oakfest.net</a></div>\n\n<div class="cxmmr5t8 oygrvhab hcukyx3x c1et5uql o9v6fnle" style="overflow-wrap: break-word\; margin: 0.5em 0px 0px\; font-family: &quot\;Segoe UI Historic&quot\;\, &quot\;Segoe UI&quot\;\, Helvetica\, Arial\, sans-serif\; color: rgb(5\, 5\, 5)\; font-size: 15px\;">*Oakfest is a rain or shine event. All ticket sales are donations that support The Treehouse Children&#39\;s Advocacy Center and are non-refundable.*&nbsp\;</div>\n
LOCATION:
UID:e.3211.978
SEQUENCE:3
DTSTAMP:20260423T033937Z
URL:https://business.thomasvillechamber.com/events/details/oakfest-978
END:VEVENT

END:VCALENDAR
