BEGIN:VCALENDAR
VERSION:2.0
PRODID:-//ChamberMaster//Event Calendar 2.0//EN
METHOD:PUBLISH
X-PUBLISHED-TTL:P3D
REFRESH-INTERVAL:P3D
CALSCALE:GREGORIAN
BEGIN:VEVENT
DTSTART:20180920T210000Z
DTEND:20181005T003000Z
X-MICROSOFT-CDO-ALLDAYEVENT:FALSE
SUMMARY:One Book 2018
DESCRIPTION:Thurs.\, Sept. 20 | One Cork: Kick off this year's One Book at The Bookshelf: local author Yocheved Artzi\, 5:00 p.m. Thurs.\, Sept. 27 | One Word: Listen to area poets share works inspired by this year's One Book selection at Grassroots\, 6:30 p.m. Mon.\, Oct. 1 | Movie Night: View the award-winning documentary film The Number on Great-Grandpa's Arm at the Thomas County Public Library\, 6 p.m. Tues.\, Oct. 2 | Art Show: Attend an art show featuring the creations of area school children at the Thomas County Public Library\, 4 p.m. Wed.\, Oct. 3 | Lunch + Learn: Gather for a book club-style discussion with other readers hosted by Annie at The Bookshelf at noon\; bring your own lunch! Thurs.\, Oct. 4 | Author Lecture: Hear from One Book author\, Georgia Hunter\, at the Thomas County BOE auditorium\, 7 p.m.
X-ALT-DESC;FMTTYPE=text/html:Thurs.\, Sept. 20 | One Cork: Kick off this year&rsquo\;s One Book at The Bookshelf: local author Yocheved Artzi\, 5:00 p.m. Thurs.\, Sept. 27 | One Word: Listen to area poets share works inspired by this year&rsquo\;s One Book selection at Grassroots\, 6:30 p.m. Mon.\, Oct. 1 | Movie Night: View the award-winning documentary film The Number on Great-Grandpa&rsquo\;s Arm at the Thomas County Public Library\, 6 p.m. Tues.\, Oct. 2 | Art Show: Attend an art show featuring the creations of area school children at the Thomas County Public Library\, 4 p.m. Wed.\, Oct. 3 | Lunch + Learn: Gather for a book club-style discussion with other readers hosted by Annie at The Bookshelf at noon\; bring your own lunch! Thurs.\, Oct. 4 | Author Lecture: Hear from One Book author\, Georgia Hunter\, at the Thomas County BOE auditorium\, 7 p.m.
LOCATION:Various locations throughout downtown Thomasville. Check out the One Book website below for more information
UID:e.3211.346
SEQUENCE:3
DTSTAMP:20260426T015717Z
URL:https://business.thomasvillechamber.com/events/details/one-book-2018-346
END:VEVENT

END:VCALENDAR
