BEGIN:VCALENDAR
VERSION:2.0
PRODID:-//ChamberMaster//Event Calendar 2.0//EN
METHOD:PUBLISH
X-PUBLISHED-TTL:P3D
REFRESH-INTERVAL:P3D
CALSCALE:GREGORIAN
BEGIN:VEVENT
DTSTART:20230412T200000Z
DTEND:20230412T210000Z
X-MICROSOFT-CDO-ALLDAYEVENT:FALSE
SUMMARY:OutShine Ribbon Cutting
DESCRIPTION:Ribbon Cutting for Outshine Detailing
X-ALT-DESC;FMTTYPE=text/html:Ribbon Cutting for Outshine Detailing&nbsp\; &nbsp\;
LOCATION:1716 Smith Ave\, Thomasville\, GA 31792
UID:e.3211.1671
SEQUENCE:3
DTSTAMP:20260422T031645Z
URL:https://business.thomasvillechamber.com/events/details/outshine-ribbon-cutting-1671
END:VEVENT

END:VCALENDAR
