BEGIN:VCALENDAR
VERSION:2.0
PRODID:-//ChamberMaster//Event Calendar 2.0//EN
METHOD:PUBLISH
X-PUBLISHED-TTL:P3D
REFRESH-INTERVAL:P3D
CALSCALE:GREGORIAN
BEGIN:VEVENT
DTSTART:20180920T230000Z
DTEND:20180921T000000Z
X-MICROSOFT-CDO-ALLDAYEVENT:FALSE
SUMMARY:Paint Night with The Brush Up
DESCRIPTION:Farmer's Daughter Vineyards will be hosting a paint night in partnership with The Brush Up. Contact FDV for more information at (404) 313-5446.
X-ALT-DESC;FMTTYPE=text/html:Farmer&#39\;s Daughter Vineyards will be hosting a paint night in partnership with The Brush Up. Contact FDV for more information at&nbsp\;<font color="#000000" face="helvetica\, sans-serif"><span style="font-size: 11.3333px\;">(404) 313-5446.</span></font>
LOCATION:
UID:e.3211.339
SEQUENCE:3
DTSTAMP:20260426T033237Z
URL:https://business.thomasvillechamber.com/events/details/paint-night-with-the-brush-up-339
END:VEVENT

END:VCALENDAR
