BEGIN:VCALENDAR
VERSION:2.0
PRODID:-//ChamberMaster//Event Calendar 2.0//EN
METHOD:PUBLISH
X-PUBLISHED-TTL:P3D
REFRESH-INTERVAL:P3D
CALSCALE:GREGORIAN
BEGIN:VEVENT
DTSTART:20220929T160000Z
DTEND:20220929T170000Z
X-MICROSOFT-CDO-ALLDAYEVENT:FALSE
SUMMARY:Patient 1st Health and Wellness Associates Ribbon Cutting Ceremony
DESCRIPTION:Please join us for the official ribbon cutting ceremony for Patient 1st Health and Wellness Associates! We will celebrate the opening of their new location at 508 Gordon Avenue Thomasville\, GA 31792 at 12:00 PM.
X-ALT-DESC;FMTTYPE=text/html:Please join us for the official ribbon cutting ceremony for Patient 1st Health and Wellness Associates! We will celebrate the opening of their new location at 508 Gordon Avenue Thomasville\, GA 31792 at 12:00 PM.
LOCATION:
UID:e.3211.1031
SEQUENCE:3
DTSTAMP:20260422T170545Z
URL:https://business.thomasvillechamber.com/events/details/patient-1st-health-and-wellness-associates-ribbon-cutting-ceremony-1031
END:VEVENT

END:VCALENDAR
