BEGIN:VCALENDAR
VERSION:2.0
PRODID:-//ChamberMaster//Event Calendar 2.0//EN
METHOD:PUBLISH
X-PUBLISHED-TTL:P3D
REFRESH-INTERVAL:P3D
CALSCALE:GREGORIAN
BEGIN:VEVENT
DTSTART:20210508T130000Z
DTEND:20210508T190000Z
X-MICROSOFT-CDO-ALLDAYEVENT:FALSE
SUMMARY:Pavo Peacock Day
DESCRIPTION:Family fun for all - parade\, food\, kid zone\, arts\, crafts\, etc.
X-ALT-DESC;FMTTYPE=text/html:Family fun for all - parade\, food\, kid zone\, arts\, crafts\, etc.
LOCATION:2061 W McDonald Street Pavo\, GA 321778
UID:e.3211.922
SEQUENCE:3
DTSTAMP:20260423T205135Z
URL:https://business.thomasvillechamber.com/events/details/pavo-peacock-day-05-08-2021-922
END:VEVENT

END:VCALENDAR
