BEGIN:VCALENDAR
VERSION:2.0
PRODID:-//ChamberMaster//Event Calendar 2.0//EN
METHOD:PUBLISH
X-PUBLISHED-TTL:P3D
REFRESH-INTERVAL:P3D
CALSCALE:GREGORIAN
BEGIN:VEVENT
DTSTART:20211213T220000Z
DTEND:20211214T000000Z
X-MICROSOFT-CDO-ALLDAYEVENT:FALSE
SUMMARY:Pictures on the Porch with Santa
DESCRIPTION:Free family event! Please stop by to have your picture taken with Santa on our whimsically decorated porch. Sip some hot cocoa provided by Elianos Coffee and have some fun in Santa's Workshop.
X-ALT-DESC;FMTTYPE=text/html:Free family event! Please stop by to have your picture taken with Santa on our whimsically decorated porch. Sip some hot cocoa provided by Elianos Coffee and have some fun in Santa&#39\;s Workshop.
LOCATION:1835 Smith Ave. Thomasville GA 31792
UID:e.3211.971
SEQUENCE:3
DTSTAMP:20260423T110615Z
URL:https://business.thomasvillechamber.com/events/details/pictures-on-the-porch-with-santa-971
END:VEVENT

END:VCALENDAR
