BEGIN:VCALENDAR
VERSION:2.0
PRODID:-//ChamberMaster//Event Calendar 2.0//EN
METHOD:PUBLISH
X-PUBLISHED-TTL:P3D
REFRESH-INTERVAL:P3D
CALSCALE:GREGORIAN
BEGIN:VEVENT
DTSTART:20220309T203000Z
DTEND:20220309T213000Z
X-MICROSOFT-CDO-ALLDAYEVENT:FALSE
SUMMARY:Pop Up Library!
DESCRIPTION:Pines Library Access to Youth!\n\n\n\nA partnership designed to give free access to public library material and online resources to help your student succeed.\n\n\n\nThomasville City School student ID members will now act as a library card number for your public library! The public library provides free access to books and online resources to help your child succeed in school\, as well as fun resources that help develop a lifelong love of reading.\n\n\n\nBring your appetite!\n\nHotdogs\, Chips\, & Waters will be provided\n\n\n\nPlay Library Card Number: \n\nTLC and student number\n\n(id. TLC123456)\n\n\n\nPlay Library Card Password:\n\n6-digit student birth month and year\n\n(ie. MMYYYY)
X-ALT-DESC;FMTTYPE=text/html:Pines Library Access to Youth!<br />\n<br />\nA partnership designed to give free access to public library material and online resources to help your student succeed.<br />\n<br />\nThomasville City School student ID members will now act as a library card number for your public library! The public library provides free access to books and online resources to help your child succeed in school\, as well as fun resources that help develop a lifelong love of reading.<br />\n<br />\nBring your appetite!<br />\nHotdogs\, Chips\, &amp\; Waters will be provided<br />\n<br />\nPlay Library Card Number:&nbsp\;<br />\nTLC and student number<br />\n(id. TLC123456)<br />\n<br />\nPlay Library Card Password:<br />\n6-digit student birth month and year<br />\n(ie. MMYYYY)
LOCATION:Villa North Apartments 510 Old Albany Road Thomasville\, GA 31792
UID:e.3211.1000
SEQUENCE:3
DTSTAMP:20260423T052446Z
URL:https://business.thomasvillechamber.com/events/details/pop-up-library-1000
END:VEVENT

END:VCALENDAR
