BEGIN:VCALENDAR
VERSION:2.0
PRODID:-//ChamberMaster//Event Calendar 2.0//EN
METHOD:PUBLISH
X-PUBLISHED-TTL:P3D
REFRESH-INTERVAL:P3D
CALSCALE:GREGORIAN
BEGIN:VEVENT
DTSTART:20220428T180000Z
DTEND:20220428T220000Z
X-MICROSOFT-CDO-ALLDAYEVENT:FALSE
SUMMARY:Project Purpose Career Fair
DESCRIPTION:ABOUT\n\nPresented by Imagine Thomasville\, in partnership with New Hire Solutions and Southern Regional Technical College\, Project Purpose is a workforce initiative focused on connecting business (employers) to job seekers and students.\n\nOBJECTIVES \n\n\n	Expand Project Purpose to better demonstrate the scope of Thomas County's workforce opportunities. \n	Collaborate with education\, business and industry to encourage interactive demonstrations.\n	Match local employers to job seekers.\n	Serve as an annual career fair for local school systems\, connecting students to business community.\n	Promote work as a purpose\, not just a place.\n	Celebrate job seekers willing to gain the skill sets in demand.\n	Build upon in future years as a premier fundraiser for Thomasville-Thomas County Chamber of Commerce.\n\n\nTIMELINE\n\n\n	Applications open ASAP\n	Applications due March 31\n	Promote event March & April\n	Set up on April 27\n	Event on April 28\n	Break down on April 29\n	Wrap up meeting in May\n	Signing Day celebrations TBD\n\n\n\nLEARN MORE HERE: https://imaginethomasville.com/project-purpose
X-ALT-DESC;FMTTYPE=text/html:<p class="_04xlpA direction-ltr align-start para-style-body" style="color: rgb(0\, 0\, 0)\; font-family: &quot\;YADLjI9qxTA 0&quot\;\, _fb_\, auto\; --font-size:20px\; --line-height:1.5\; line-height: 30px\;"><span class="JsGRdQ" style="font-weight: 700\; color: rgb(159\, 70\, 27)\;">ABOUT</span></p>\n\n<p class="_04xlpA direction-ltr align-start para-style-body" style="color: rgb(0\, 0\, 0)\; font-family: &quot\;YADLjI9qxTA 0&quot\;\, _fb_\, auto\; --font-size:14.6667px\; --line-height:1.5\; line-height: 22px\;"><span class="JsGRdQ">Presented by Imagine Thomasville\, in partnership with New Hire Solutions and Southern Regional Technical College\, Project Purpose is a workforce initiative focused on connecting business (employers) to job seekers and students.</span></p>\n\n<p class="_04xlpA direction-ltr align-start para-style-body" style="color: rgb(0\, 0\, 0)\; font-family: &quot\;YADLjI9qxTA 0&quot\;\, _fb_\, auto\; --font-size:20px\; --line-height:1.5\; line-height: 30px\;"><span class="JsGRdQ" style="font-weight: 700\; color: rgb(159\, 70\, 27)\;">OBJECTIVES</span><span class="JsGRdQ white-space-prewrap" style="font-weight: 700\; color: rgb(159\, 70\, 27)\;"> </span></p>\n\n<ul>\n	<li><span class="JsGRdQ" style="color: rgb(0\, 0\, 0)\;">Expand Project Purpose to better demonstrate the scope of Thomas County&#39\;s workforce opportunities.</span><span class="JsGRdQ white-space-prewrap" style="color: rgb(0\, 0\, 0)\;"> </span></li>\n	<li><span class="JsGRdQ" style="color: rgb(0\, 0\, 0)\;">Collaborate with education\, business and industry to encourage interactive demonstrations.</span></li>\n	<li><span class="JsGRdQ" style="color: rgb(0\, 0\, 0)\;">Match local employers to job seekers.</span></li>\n	<li><span class="JsGRdQ" style="color: rgb(0\, 0\, 0)\;">Serve as an annual career fair for local school systems\, connecting students to business community.</span></li>\n	<li><span class="JsGRdQ" style="color: rgb(0\, 0\, 0)\;">Promote work as a purpose\, not just a place.</span></li>\n	<li><span class="JsGRdQ" style="color: rgb(0\, 0\, 0)\;">Celebrate job seekers willing to gain the skill sets in demand.</span></li>\n	<li><span class="JsGRdQ" style="color: rgb(0\, 0\, 0)\;">Build upon in future years as a premier fundraiser for Thomasville-Thomas County Chamber of Commerce.</span></li>\n</ul>\n\n<p class="_04xlpA direction-ltr align-start para-style-body" style="color: rgb(0\, 0\, 0)\; font-family: &quot\;YADLjI9qxTA 0&quot\;\, _fb_\, auto\; --font-size:20px\; --line-height:1.5\; line-height: 30px\;"><span class="JsGRdQ" style="font-weight: 700\; color: rgb(159\, 70\, 27)\;">TIMELINE</span></p>\n\n<ul>\n	<li><span class="JsGRdQ" style="color: rgb(0\, 0\, 0)\;">Applications open ASAP</span></li>\n	<li><span class="JsGRdQ" style="color: rgb(0\, 0\, 0)\;">Applications due March 31</span></li>\n	<li><span class="JsGRdQ" style="color: rgb(0\, 0\, 0)\;">Promote event March &amp\; April</span></li>\n	<li><span class="JsGRdQ" style="color: rgb(0\, 0\, 0)\;">Set up on April 27</span></li>\n	<li><span class="JsGRdQ" style="color: rgb(0\, 0\, 0)\;">Event on April 28</span></li>\n	<li><span class="JsGRdQ" style="color: rgb(0\, 0\, 0)\;">Break down on April 29</span></li>\n	<li><span class="JsGRdQ" style="color: rgb(0\, 0\, 0)\;">Wrap up meeting in May</span></li>\n	<li><span class="JsGRdQ" style="color: rgb(0\, 0\, 0)\;">Signing Day celebrations TBD</span></li>\n</ul>\n<br />\nLEARN MORE HERE:&nbsp\;<a href="https://imaginethomasville.com/project-purpose">https://imaginethomasville.com/project-purpose</a><br />\n&nbsp\;
LOCATION:
UID:e.3211.1002
SEQUENCE:3
DTSTAMP:20260423T014626Z
URL:https://business.thomasvillechamber.com/events/details/project-purpose-career-fair-1002
END:VEVENT

END:VCALENDAR
