BEGIN:VCALENDAR
VERSION:2.0
PRODID:-//ChamberMaster//Event Calendar 2.0//EN
METHOD:PUBLISH
X-PUBLISHED-TTL:P3D
REFRESH-INTERVAL:P3D
CALSCALE:GREGORIAN
BEGIN:VEVENT
DTSTART:20221007T123000Z
DTEND:20221007T213000Z
X-MICROSOFT-CDO-ALLDAYEVENT:FALSE
SUMMARY:Ranges at Oakfield Hunter Safety Course
DESCRIPTION:Hunter Education Course\n\nHunter Safety Certification\n\n\n\n\n\n Event Dates\nFri\, 07 October 2022 8:30 AM - Fri\, 07 October 2022 5:30 PM\n\n\n Registration Dates\nThu\, 09 June 2022 12:00 PM - Thu\, 06 October 2022 11:59 PM\n\n\n\n\n Location\nRanges at Oakfield\n\n245 County Farm Rd Thomasville\, GA 31757\n\n\n\n Live Firing Class\n\n\n\n\n Contact\n\n\n Range Master\n\n rangesatoakfield@thomascountyga.gov\n\n (229) 236-7264\n\n\n\n Details\n\n\nPublic Class\n\n\n\n Participants :  5 - 30\n\nParticipant Count : 12\n\nEvent ID: 41054\n\n\n\n Volunteers : 1 - 100\n\nVolunteer Count : 2\n\nRequired Hours:  8
X-ALT-DESC;FMTTYPE=text/html:<div class="row" style="box-sizing: inherit\; margin-right: -15px\; margin-left: -15px\; font-family: Roboto\, sans-serif\; font-size: 14px\;">\n<div class="col-md-12" style="box-sizing: inherit\; position: relative\; min-height: 1px\; padding-right: 15px\; padding-left: 15px\; text-align: center\;">\n<h2 style="box-sizing: inherit\; font-family: Archivo\, sans-serif\; font-weight: 900\; line-height: 1.1\; color: rgb(110\, 126\, 101)\; margin-top: 20px\; margin-bottom: 10px\; font-size: 30px\;">Hunter Education Course</h2>\n\n<h4 style="box-sizing: inherit\; font-family: Archivo\, sans-serif\; font-weight: 900\; line-height: 1.1\; color: rgb(110\, 126\, 101)\; margin-top: 10px\; margin-bottom: 10px\; font-size: 18px\;"><span id="ContentPlaceHolder1_dataEventType" style="box-sizing: inherit\;">Hunter Safety Certification</span></h4>\n</div>\n</div>\n\n<div class="row" style="box-sizing: inherit\; margin-right: -15px\; margin-left: -15px\; font-family: Roboto\, sans-serif\; font-size: 14px\; margin-bottom: 15px\;">\n<div class="col-md-6" style="box-sizing: inherit\; position: relative\; min-height: 1px\; padding-right: 15px\; padding-left: 15px\; text-align: center\;">\n<h4 style="box-sizing: inherit\; font-family: Archivo\, sans-serif\; font-weight: 900\; line-height: 1.1\; color: rgb(110\, 126\, 101)\; margin-top: 10px\; margin-bottom: 10px\; font-size: 18px\;">&nbsp\;Event Dates</h4>\nFri\, 07 October 2022 8:30 AM - Fri\, 07 October 2022 5:30 PM</div>\n\n<div class="col-md-6" style="box-sizing: inherit\; position: relative\; min-height: 1px\; padding-right: 15px\; padding-left: 15px\; text-align: center\;">\n<h4 style="box-sizing: inherit\; font-family: Archivo\, sans-serif\; font-weight: 900\; line-height: 1.1\; color: rgb(110\, 126\, 101)\; margin-top: 10px\; margin-bottom: 10px\; font-size: 18px\;">&nbsp\;Registration Dates</h4>\nThu\, 09 June 2022 12:00 PM - Thu\, 06 October 2022 11:59 PM</div>\n</div>\n\n<div class="row" style="box-sizing: inherit\; margin-right: -15px\; margin-left: -15px\; font-family: Roboto\, sans-serif\; font-size: 14px\;">\n<div class="col-md-6" style="box-sizing: inherit\; position: relative\; min-height: 1px\; padding-right: 15px\; padding-left: 15px\; text-align: center\;">\n<h4 style="box-sizing: inherit\; font-family: Archivo\, sans-serif\; font-weight: 900\; line-height: 1.1\; color: rgb(110\, 126\, 101)\; margin-top: 10px\; margin-bottom: 10px\; font-size: 18px\;">&nbsp\;Location</h4>\n<strong style="box-sizing: inherit\;">Ranges at Oakfield</strong>\n\n<address style="box-sizing: inherit\; margin-bottom: 20px\; font-style: normal\; line-height: 1.42857\;"><a href="http://maps.google.com/maps?q=%0A%20%20%20%20%20%20%20%20%20%20%20%20%20%20%20%20%20%20%20%20%20%20%20%20%20%20%20%20%20%20%20%20%20%20%20%20%20%20%20%20245%20County%20Farm%20Rd%0A%20%20%20%20%20%20%20%20%20%20%20%20%20%20%20%20%20%20%20%20%20%20%20%20%20%20%20%20%20%20%20%20%20%20%20%20%20%20%20%20%0A%20%20%20%20%20%20%20%20%20%20%20%20%20%20%20%20%20%20%20%20%20%20%20%20%20%20%20%20%20%20%20%20%20%20%20%20%20%20%20%20Thomasville%2C%20GA%2031757%20%0A%20%20%20%20%20%20%20%20%20%20%20%20%20%20%20%20%20%20%20%20%20%20%20%20%20%20%20%20%20%20%20%20%20%20%20%20" style="box-sizing: inherit\; background-color: transparent\; color: rgb(127\, 96\, 0)\; text-decoration-line: none\;" target="_blank">245 County Farm Rd Thomasville\, GA 31757</a></address>\n</div>\n\n<div class="col-md-6" style="box-sizing: inherit\; position: relative\; min-height: 1px\; padding-right: 15px\; padding-left: 15px\; text-align: center\;">\n<h4 style="box-sizing: inherit\; font-family: Archivo\, sans-serif\; font-weight: 900\; line-height: 1.1\; color: red\; margin-top: 10px\; margin-bottom: 25px\; font-size: 18px\;">&nbsp\;Live Firing Class</h4>\n</div>\n</div>\n\n<hr style="box-sizing: content-box\; height: 0px\; margin-top: 20px\; margin-bottom: 20px\; border-top-color: rgb(238\, 238\, 238)\; width: 462px\; transform: translateX(-10px)\; font-family: Roboto\, sans-serif\; font-size: 14px\;" />\n<h3 style="box-sizing: inherit\; font-family: Archivo\, sans-serif\; font-weight: 900\; line-height: 1.1\; color: rgb(110\, 126\, 101)\; margin-top: 20px\; margin-bottom: 10px\; font-size: 24px\; text-align: center\;">&nbsp\;Contact</h3>\n\n<div class="row" style="box-sizing: inherit\; margin: 15px -15px\; font-family: Roboto\, sans-serif\; font-size: 14px\; text-align: center\;">\n<div class="col-md-4" style="box-sizing: inherit\; position: relative\; min-height: 1px\; padding-right: 15px\; padding-left: 15px\;">&nbsp\;<span id="ContentPlaceHolder1_dataEventContact" style="box-sizing: inherit\;">Range Master</span></div>\n\n<div class="col-md-4" style="box-sizing: inherit\; position: relative\; min-height: 1px\; padding-right: 15px\; padding-left: 15px\;">&nbsp\;<span id="ContentPlaceHolder1_dataEmail" style="box-sizing: inherit\;">rangesatoakfield@thomascountyga.gov</span></div>\n\n<div class="col-md-4" style="box-sizing: inherit\; position: relative\; min-height: 1px\; padding-right: 15px\; padding-left: 15px\;">&nbsp\;<span id="ContentPlaceHolder1_dataMobilePhone" style="box-sizing: inherit\;">(229) 236-7264</span></div>\n</div>\n\n<hr style="box-sizing: content-box\; height: 0px\; margin-top: 20px\; margin-bottom: 20px\; border-top-color: rgb(238\, 238\, 238)\; width: 462px\; transform: translateX(-10px)\; font-family: Roboto\, sans-serif\; font-size: 14px\;" />\n<h3 style="box-sizing: inherit\; font-family: Archivo\, sans-serif\; font-weight: 900\; line-height: 1.1\; color: rgb(110\, 126\, 101)\; margin-top: 20px\; margin-bottom: 10px\; font-size: 24px\; text-align: center\;">&nbsp\;Details</h3>\n\n<div class="row" style="box-sizing: inherit\; margin-right: -15px\; margin-left: -15px\; font-family: Roboto\, sans-serif\; font-size: 14px\; margin-bottom: 15px\;">\n<div class="col-md-12" style="box-sizing: inherit\; position: relative\; min-height: 1px\; padding-right: 15px\; padding-left: 15px\;">Public Class</div>\n</div>\n\n<div class="row" style="box-sizing: inherit\; margin: 15px -15px\; font-family: Roboto\, sans-serif\; font-size: 14px\;">\n<div class="col-md-4" style="box-sizing: inherit\; position: relative\; min-height: 1px\; padding-right: 15px\; padding-left: 15px\;"><strong style="box-sizing: inherit\;">&nbsp\;Participants :</strong>&nbsp\;&nbsp\;<span id="ContentPlaceHolder1_dataParticipantMinimum" style="box-sizing: inherit\;">5</span>&nbsp\;-&nbsp\;<span id="ContentPlaceHolder1_dataParticipantMaximum" style="box-sizing: inherit\;">30</span></div>\n\n<div class="col-md-4" style="box-sizing: inherit\; position: relative\; min-height: 1px\; padding-right: 15px\; padding-left: 15px\;"><strong style="box-sizing: inherit\;">Participant Count :</strong>&nbsp\;<span id="ContentPlaceHolder1_dataParticipantCount" style="box-sizing: inherit\;">12</span></div>\n\n<div class="col-md-4" style="box-sizing: inherit\; position: relative\; min-height: 1px\; padding-right: 15px\; padding-left: 15px\;"><strong style="box-sizing: inherit\;">Event ID:</strong>&nbsp\;<span id="ContentPlaceHolder1_dataEventID" style="box-sizing: inherit\;">41054</span></div>\n</div>\n\n<div class="row" style="box-sizing: inherit\; margin-right: -15px\; margin-left: -15px\; font-family: Roboto\, sans-serif\; font-size: 14px\; margin-bottom: 15px\;">\n<div class="col-md-4" style="box-sizing: inherit\; position: relative\; min-height: 1px\; padding-right: 15px\; padding-left: 15px\;"><strong style="box-sizing: inherit\;">&nbsp\;Volunteers :</strong>&nbsp\;<span id="ContentPlaceHolder1_dataVolunteerMinimum" style="box-sizing: inherit\;">1</span>&nbsp\;-&nbsp\;<span id="ContentPlaceHolder1_dataVolunteerMaximum" style="box-sizing: inherit\;">100</span></div>\n\n<div class="col-md-4" style="box-sizing: inherit\; position: relative\; min-height: 1px\; padding-right: 15px\; padding-left: 15px\;"><strong style="box-sizing: inherit\;">Volunteer Count :</strong>&nbsp\;<span id="ContentPlaceHolder1_dataVolunteerCount" style="box-sizing: inherit\;">2</span></div>\n\n<div class="col-md-4" style="box-sizing: inherit\; position: relative\; min-height: 1px\; padding-right: 15px\; padding-left: 15px\;"><strong style="box-sizing: inherit\;">Required Hours:</strong>&nbsp\;&nbsp\;<span id="ContentPlaceHolder1_dataVolunteerHoursRequired" style="box-sizing: inherit\;">8</span></div>\n</div>\n
LOCATION:
UID:e.3211.1639
SEQUENCE:3
DTSTAMP:20260422T135032Z
URL:https://business.thomasvillechamber.com/events/details/ranges-at-oakfield-hunter-safety-course-1639
END:VEVENT

END:VCALENDAR
