BEGIN:VCALENDAR
VERSION:2.0
PRODID:-//ChamberMaster//Event Calendar 2.0//EN
METHOD:PUBLISH
X-PUBLISHED-TTL:P3D
REFRESH-INTERVAL:P3D
CALSCALE:GREGORIAN
BEGIN:VEVENT
DTSTART:20211202T190000Z
DTEND:20211202T210000Z
X-MICROSOFT-CDO-ALLDAYEVENT:FALSE
SUMMARY:Residence at Oak Grove 1 Year Celebration
DESCRIPTION:Join us as we celebrate ONE YEAR anniversary for The Residence at Oak Grove\, named after the nursery that was on adjacent property for many years\, is located on Market Street. This elegant and vibrant assisted living and memory care community is open and accepting residents.
X-ALT-DESC;FMTTYPE=text/html:<span style="font-size:14px\;"><span style="font-family:verdana\;">Join us as we celebrate ONE YEAR anniversary for&nbsp\;<span style="color: rgb(5\, 5\, 5)\;">The Residence at Oak Grove\, named after the nursery that was on adjacent property for many years\, is located on Market Street. This elegant and vibrant assisted living and memory care community is open and accepting residents.</span></span></span>
LOCATION:
UID:e.3211.963
SEQUENCE:3
DTSTAMP:20260423T110241Z
URL:https://business.thomasvillechamber.com/events/details/residence-at-oak-grove-1-year-celebration-963
END:VEVENT

END:VCALENDAR
