BEGIN:VCALENDAR
VERSION:2.0
PRODID:-//ChamberMaster//Event Calendar 2.0//EN
METHOD:PUBLISH
X-PUBLISHED-TTL:P3D
REFRESH-INTERVAL:P3D
CALSCALE:GREGORIAN
BEGIN:VEVENT
DTSTART:20230413T210000Z
DTEND:20230413T220000Z
X-MICROSOFT-CDO-ALLDAYEVENT:FALSE
SUMMARY:Ribbon Cutting and Grand Opening for Bella Vida Salon
DESCRIPTION:Ribbon Cutting and Grand Opening for Bella Vida Salon
X-ALT-DESC;FMTTYPE=text/html:Ribbon Cutting and Grand Opening for Bella Vida Salon
LOCATION:112 Madison Grove Blvd Thomasville\, Ga 31757
UID:e.3211.1672
SEQUENCE:3
DTSTAMP:20260422T032028Z
URL:https://business.thomasvillechamber.com/events/details/ribbon-cutting-and-grand-opening-for-bella-vida-salon-1672
END:VEVENT

END:VCALENDAR
