BEGIN:VCALENDAR
VERSION:2.0
PRODID:-//ChamberMaster//Event Calendar 2.0//EN
METHOD:PUBLISH
X-PUBLISHED-TTL:P3D
REFRESH-INTERVAL:P3D
CALSCALE:GREGORIAN
BEGIN:VEVENT
DTSTART:20210211T190000Z
DTEND:20210211T193000Z
X-MICROSOFT-CDO-ALLDAYEVENT:FALSE
SUMMARY:Ribbon Cutting Ceremony - Cheaper and Better
DESCRIPTION:SAVE THE DATE! We will be celebrating our member\, Cheaper and Better\, with a ribbon cutting ceremony February 11\, 2021 at 2 PM.\n\n\n\nCheaper and Better is a hometown thrift store right here in Thomasville with great prices\, excellent customer service and a wide variety of merchandise. You?ll be sure to find something that you will love! So come out\, shop local and shop small. See you there!\n\n\n\nLearn more: https://www.thomasvillechamber.com/list/member/cheaper-and-better-4274?fbclid=IwAR3Yf9Ok0hzBBKztC9iQAmjUI6yBv36ifiUJb9-o8xGD6NH3kTd19blAS_o
X-ALT-DESC;FMTTYPE=text/html:<div class="o9v6fnle cxmmr5t8 oygrvhab hcukyx3x c1et5uql ii04i59q" style="overflow-wrap: break-word\; margin: 0.5em 0px 0px\; white-space: pre-wrap\; font-family: &quot\;Segoe UI Historic&quot\;\, &quot\;Segoe UI&quot\;\, Helvetica\, Arial\, sans-serif\; color: rgb(5\, 5\, 5)\; font-size: 15px\; background-color: rgb(255\, 255\, 255)\;">\n<div dir="auto" style="font-family: inherit\;">SAVE THE DATE! We will be celebrating our member\, Cheaper and Better\, with a ribbon cutting ceremony February 11\, 2021 at 2 PM.</div>\n</div>\n\n<div class="o9v6fnle cxmmr5t8 oygrvhab hcukyx3x c1et5uql ii04i59q" style="overflow-wrap: break-word\; margin: 0.5em 0px 0px\; white-space: pre-wrap\; font-family: &quot\;Segoe UI Historic&quot\;\, &quot\;Segoe UI&quot\;\, Helvetica\, Arial\, sans-serif\; color: rgb(5\, 5\, 5)\; font-size: 15px\; background-color: rgb(255\, 255\, 255)\;">\n<div dir="auto" style="font-family: inherit\;">Cheaper and Better is a hometown thrift store right here in Thomasville with great prices\, excellent customer service and a wide variety of merchandise. You?ll be sure to find something that you will love! So come out\, shop local and shop small. See you there!</div>\n</div>\n\n<div class="o9v6fnle cxmmr5t8 oygrvhab hcukyx3x c1et5uql ii04i59q" style="overflow-wrap: break-word\; margin: 0.5em 0px 0px\; white-space: pre-wrap\; font-family: &quot\;Segoe UI Historic&quot\;\, &quot\;Segoe UI&quot\;\, Helvetica\, Arial\, sans-serif\; color: rgb(5\, 5\, 5)\; font-size: 15px\; background-color: rgb(255\, 255\, 255)\;">\n<div dir="auto" style="font-family: inherit\;">Learn more: https://www.thomasvillechamber.com/list/member/cheaper-and-better-4274?fbclid=IwAR3Yf9Ok0hzBBKztC9iQAmjUI6yBv36ifiUJb9-o8xGD6NH3kTd19blAS_o</div>\n</div>\n
LOCATION:
UID:e.3211.899
SEQUENCE:3
DTSTAMP:20260424T041123Z
URL:https://business.thomasvillechamber.com/events/details/ribbon-cutting-ceremony-cheaper-and-better-899
END:VEVENT

END:VCALENDAR
