BEGIN:VCALENDAR
VERSION:2.0
PRODID:-//ChamberMaster//Event Calendar 2.0//EN
METHOD:PUBLISH
X-PUBLISHED-TTL:P3D
REFRESH-INTERVAL:P3D
CALSCALE:GREGORIAN
BEGIN:VEVENT
DTSTART:20180907T220000Z
DTEND:20180908T003000Z
X-MICROSOFT-CDO-ALLDAYEVENT:FALSE
SUMMARY:Robert Willis at FDV
DESCRIPTION:FDV house musician playing original acoustic guitar. Plus First Friday Sangria
X-ALT-DESC;FMTTYPE=text/html:FDV house musician playing original acoustic guitar. Plus First Friday Sangria
LOCATION:106 N Broad Street Thomasville\, GA 31792
UID:e.3211.343
SEQUENCE:3
DTSTAMP:20260426T032931Z
URL:https://business.thomasvillechamber.com/events/details/robert-willis-at-fdv-343
END:VEVENT

END:VCALENDAR
