BEGIN:VCALENDAR
VERSION:2.0
PRODID:-//ChamberMaster//Event Calendar 2.0//EN
METHOD:PUBLISH
X-PUBLISHED-TTL:P3D
REFRESH-INTERVAL:P3D
CALSCALE:GREGORIAN
BEGIN:VEVENT
DTSTART:20180921T220000Z
DTEND:20180922T003000Z
X-MICROSOFT-CDO-ALLDAYEVENT:FALSE
SUMMARY:Robert Willis at FDV
DESCRIPTION:FDV house musician playing original acoustic guitar
X-ALT-DESC;FMTTYPE=text/html:FDV house musician playing original acoustic guitar
LOCATION:106 N Broad Street Thomasville\, GA 31792
UID:e.3211.344
SEQUENCE:3
DTSTAMP:20260426T032932Z
URL:https://business.thomasvillechamber.com/events/details/robert-willis-at-fdv-344
END:VEVENT

END:VCALENDAR
