BEGIN:VCALENDAR
VERSION:2.0
PRODID:-//ChamberMaster//Event Calendar 2.0//EN
METHOD:PUBLISH
X-PUBLISHED-TTL:P3D
REFRESH-INTERVAL:P3D
CALSCALE:GREGORIAN
BEGIN:VEVENT
DTSTART:20210524T223000Z
DTEND:20210524T230000Z
X-MICROSOFT-CDO-ALLDAYEVENT:FALSE
SUMMARY:Rose City Toastmasters Open House
DESCRIPTION:Imagine Thomasville has partnered with Rose City Toastmasters to bring our community a virtual open house at NO COST. This program helps develop speaking and leadership skills\, improves career opportunities\, and helps you build confidence and personal relationships. Attendees will learn how to develop and present speeches at their own pace. Make sure to save the date and listen in to see how this program can benefit you or someone that you know!
X-ALT-DESC;FMTTYPE=text/html:<span style="color: rgb(5\, 5\, 5)\; font-family: &quot\;Segoe UI Historic&quot\;\, &quot\;Segoe UI&quot\;\, Helvetica\, Arial\, sans-serif\; font-size: 15px\;">Imagine Thomasville has partnered with Rose City Toastmasters to bring our community a virtual open house at NO COST. This program helps develop speaking and leadership skills\, improves career opportunities\, and helps you build confidence and personal relationships. Attendees will learn how to develop and present speeches at their own pace. Make sure to save the date and listen in to see how this program can benefit you or someone that you know!</span>
LOCATION:
UID:e.3211.924
SEQUENCE:3
DTSTAMP:20260423T224441Z
URL:https://business.thomasvillechamber.com/events/details/rose-city-toastmasters-open-house-924
END:VEVENT

END:VCALENDAR
