BEGIN:VCALENDAR
VERSION:2.0
PRODID:-//ChamberMaster//Event Calendar 2.0//EN
METHOD:PUBLISH
X-PUBLISHED-TTL:P3D
REFRESH-INTERVAL:P3D
CALSCALE:GREGORIAN
BEGIN:VEVENT
DTSTART:20230403T223000Z
DTEND:20230403T233000Z
X-MICROSOFT-CDO-ALLDAYEVENT:FALSE
SUMMARY:Rosecity Toastmasters Open House
DESCRIPTION:Rose City Toastmasters is a self-development educational organization that teaches public speaking and leadership skills.  During the open house event\, we will introduce you to the organization and give you an understanding of how to accomplish the following:\n\n	\n		\n			Improve your public speaking skills \n			\n			Gain self-confidence and self-awareness \n			\n		\n		\n			\n			Practice writing speeches and presenting in a group setting \n			\n			Gain a competitive advantage in the workplace\n		\n		\n			Enjoy unlimited personal growth\n			\n			Maximize your potential\n			\n		\n		\n			\n			Build leadership skills\n			\n			\n			Work on networking in a small and supportive environment\n			\n		\n		\n			Receive regular and constructive feedback from peers with similar interests as you \n			\n			\n				Interview preparation \n				Online meeting management \n				Leadership development \n				Project management \n				Conflict resolution
X-ALT-DESC;FMTTYPE=text/html:<span style="font-family:arial\,helvetica\,sans-serif">Rose City Toastmasters is a self-development educational organization that teaches public speaking and leadership skills.&nbsp\; During the open house event\, we will introduce you to the organization and give you an understanding of how to accomplish the following:</span>\n<table border="1" cellpadding="1" cellspacing="1" style="width:500px">\n	<tbody>\n		<tr>\n			<td><span style="font-family:arial\,helvetica\,sans-serif"><span style="color:windowtext"><span style="font-size:10.5pt">Impr</span></span><span style="font-size:10.5pt">ove your public speaking skills&nbsp\;</span></span></td>\n			<td>\n			<p><span style="font-family:arial\,helvetica\,sans-serif"><span style="font-size:10.5pt">Gain self-confidence and self-awareness&nbsp\;</span></span></p>\n			</td>\n		</tr>\n		<tr>\n			<td>\n			<p><span style="font-family:arial\,helvetica\,sans-serif"><span style="font-size:10.5pt">Practice writing speeches and presenting in a group setting&nbsp\;</span></span></p>\n			</td>\n			<td><span style="font-family:arial\,helvetica\,sans-serif"><span style="font-size:10.5pt">Gain a competitive advantage in the workplace</span></span></td>\n		</tr>\n		<tr>\n			<td><span style="font-family:arial\,helvetica\,sans-serif"><span style="font-size:10.5pt">Enjoy unlimited personal growth</span></span></td>\n			<td>\n			<p><span style="font-family:arial\,helvetica\,sans-serif"><span style="font-size:10.5pt">Maximize your potential</span></span></p>\n			</td>\n		</tr>\n		<tr>\n			<td>\n			<p><span style="font-family:arial\,helvetica\,sans-serif"><span style="font-size:10.5pt">Build leadership skills</span></span></p>\n			</td>\n			<td>\n			<p><span style="font-family:arial\,helvetica\,sans-serif"><span style="font-size:10.5pt">Work on networking in a small and supportive environment</span></span></p>\n			</td>\n		</tr>\n		<tr>\n			<td><span style="font-family:arial\,helvetica\,sans-serif"><span style="font-size:10.5pt">Receive regular and constructive feedback from peers with similar interests as you&nbsp\;</span></span></td>\n			<td>\n			<ul>\n				<li><span style="font-family:arial\,helvetica\,sans-serif"><span style="font-size:10.5pt">Interview preparation </span></span></li>\n				<li><span style="font-family:arial\,helvetica\,sans-serif"><span style="font-size:10.5pt">Online meeting management </span></span></li>\n				<li><span style="font-family:arial\,helvetica\,sans-serif"><span style="font-size:10.5pt">Leadership development </span></span></li>\n				<li><span style="font-family:arial\,helvetica\,sans-serif"><span style="font-size:10.5pt">Project management </span></span></li>\n				<li><span style="font-family:arial\,helvetica\,sans-serif"><span style="font-size:10.5pt">Conflict resolution</span></span></li>\n			</ul>\n			</td>\n		</tr>\n	</tbody>\n</table>\n
LOCATION:Thomasville Chamber of Commerce 410 South Broad Street Thomasville\, GA 31792
UID:e.3211.1668
SEQUENCE:3
DTSTAMP:20260422T030925Z
URL:https://business.thomasvillechamber.com/events/details/rosecity-toastmasters-open-house-1668
END:VEVENT

END:VCALENDAR
