BEGIN:VCALENDAR
VERSION:2.0
PRODID:-//ChamberMaster//Event Calendar 2.0//EN
METHOD:PUBLISH
X-PUBLISHED-TTL:P3D
REFRESH-INTERVAL:P3D
CALSCALE:GREGORIAN
BEGIN:VEVENT
DTSTART;VALUE=DATE:20210913
DTEND;VALUE=DATE:20210916
TRANSP:TRANSPARENT
X-MICROSOFT-CDO-ALLDAYEVENT:TRUE
SUMMARY:SBA National Small Business Week - Virtual Summit
DESCRIPTION:Join us September 13 - September 15\, 2021 for the National Small Business Week Virtual Summit hosted by the U.S. Small Business Administration.\n\n\n\nAttend this free\, online conference to learn new business strategies\, meet other business owners\, and chat with industry experts! This 3-day\, action-packed event will include educational webinars\, updates on resources for small business\, and a networking chat room for business owners and aspiring entrepreneurs.\n\n\n\n"This year we'll be spotlighting the resilience of our nation's entrepreneurs and the renewal of our small business economy as we build back better from this once-in-a-generation economic crisis."\n\n-Administrator Isabella Casillas Guzman
X-ALT-DESC;FMTTYPE=text/html:Join us September 13 - September 15\, 2021 for the National Small Business Week Virtual Summit hosted by the U.S. Small Business Administration.<br />\n<br />\nAttend this free\, online conference to learn new business strategies\, meet other business owners\, and chat with industry experts! This 3-day\, action-packed event will include educational webinars\, updates on resources for small business\, and a networking chat room for business owners and aspiring entrepreneurs.<br />\n<br />\n&quot\;This year we&#39\;ll be spotlighting the resilience of our nation&#39\;s entrepreneurs and the renewal of our small business economy as we build back better from this once-in-a-generation economic crisis.&quot\;<br />\n-Administrator<strong> Isabella Casillas Guzman</strong>
LOCATION:
UID:e.3211.943
SEQUENCE:3
DTSTAMP:20260423T144411Z
URL:https://business.thomasvillechamber.com/events/details/sba-national-small-business-week-virtual-summit-943
END:VEVENT

END:VCALENDAR
